FILENAME: O4810537.NES.1162622.tif
QUADRANGLE_NAME: BEARS NEST
QUADRANT: NE
WEST_LONGITUDE: -105 26 15.00000
EAST_LONGITUDE: -105 22 30.00000
NORTH_LATITUDE: 48 30 0.00000
SOUTH_LATITUDE: 48 26 15.00000
PRODUCTION_DATE: 2001 9 23
RASTER_ORDER: LEFT_RIGHT/TOP_BOTTOM
BAND_ORGANIZATION: SINGLE FILE
BAND_CONTENT: BLACK&WHITE
BAND_CONTENT: UNDEFINED
BAND_CONTENT: UNDEFINED
BITS_PER_PIXEL: 8
SAMPLES_AND_LINES: 5309 7585
HORIZONTAL_DATUM: NAD83
HORIZONTAL_COORDINATE_SYSTEM: UTM
COORDINATE_ZONE: 13
HORIZONTAL_UNITS: meters
HORIZONTAL_RESOLUTION: 1.00000
SECONDARY_HORIZONTAL_DATUM: NAD27
XY_ORIGIN: 467295.00000 5372276.00000
SECONDARY_XY_ORIGIN: 467334.45600 5372054.27100
NATION: US
STATE: MT
NW_QUAD_CORNER_XY: 467681.10300 5371967.99200
NE_QUAD_CORNER_XY: 472298.08000 5371943.47300
SE_QUAD_CORNERY_XY: 472264.04200 5364996.30600
SW_QUAD_CORNER_XY: 467641.39200 5365020.83100
SECONDARY_NW_QUAD_XY: 467680.07600 5371749.02200
SECONDARY_NE_QUAD_XY: 472297.19900 5371724.50300
SECONDARY_SE_QUAD_XY: 472263.16100 5364777.34500
SECONDARY_SW_QUAD_XY: 467640.36400 5364801.87000
RMSE_XY: 3.38000
IMAGE_SOURCE: BLACK AND WHITE FILM
SOURCE_IMAGE_ID: NAPP 9093-110
SOURCE_IMAGE_DATE: 1996 7 9
SOURCE_DEM_DATE: 1998 0 0
AGENCY: WESTERN MAPPING CENTER (WMC)
PRODUCER: WOOLPERT LLP
PRODUCTION_SYSTEM: INTERGRAPH ISPM, ISIR
COMPRESSION: UNDEFINED
STANDARD_VERSION: 1996 12
METADATA_DATE: 2001 9 23
DATA_FILE_SIZE: 40274074
BYTE_COUNT: 5309
