FILENAME: O4810536.NWS.1165620.tif
QUADRANGLE_NAME: REED SPRINGS
QUADRANT: NW
WEST_LONGITUDE: -105 37 30.00000
EAST_LONGITUDE: -105 33 45.00000
NORTH_LATITUDE: 48 30 0.00000
SOUTH_LATITUDE: 48 26 15.00000
PRODUCTION_DATE: 2001 9 15
RASTER_ORDER: LEFT_RIGHT/TOP_BOTTOM
BAND_ORGANIZATION: SINGLE FILE
BAND_CONTENT: BLACK&WHITE
BAND_CONTENT: UNDEFINED
BAND_CONTENT: UNDEFINED
BITS_PER_PIXEL: 8
SAMPLES_AND_LINES: 5326 7597
HORIZONTAL_DATUM: NAD83
HORIZONTAL_COORDINATE_SYSTEM: UTM
COORDINATE_ZONE: 13
HORIZONTAL_UNITS: meters
HORIZONTAL_RESOLUTION: 1.00000
SECONDARY_HORIZONTAL_DATUM: NAD27
XY_ORIGIN: 453427.00000 5372373.00000
SECONDARY_XY_ORIGIN: 453466.55900 5372151.11200
NATION: US
STATE: MT
NW_QUAD_CORNER_XY: 453830.20400 5372064.18000
NE_QUAD_CORNER_XY: 458447.16500 5372028.34500
SE_QUAD_CORNERY_XY: 458396.10600 5365081.20000
SW_QUAD_CORNER_XY: 453773.47200 5365117.04500
SECONDARY_NW_QUAD_XY: 453828.73600 5371845.21400
SECONDARY_NE_QUAD_XY: 458445.84400 5371809.37700
SECONDARY_SE_QUAD_XY: 458394.78500 5364862.24100
SECONDARY_SW_QUAD_XY: 453772.00400 5364898.08700
RMSE_XY: 3.56000
IMAGE_SOURCE: BLACK AND WHITE FILM
SOURCE_IMAGE_ID: NAPP 9094-108
SOURCE_IMAGE_DATE: 1996 7 9
SOURCE_DEM_DATE: 1998 0 0
AGENCY: WESTERN MAPPING CENTER (WMC)
PRODUCER: WOOLPERT LLP
PRODUCTION_SYSTEM: INTERGRAPH ISPM, ISIR
COMPRESSION: UNDEFINED
STANDARD_VERSION: 1996 12
METADATA_DATE: 2001 9 17
DATA_FILE_SIZE: 40466948
BYTE_COUNT: 5326
