FILENAME: O4810535.NES.1165672.tif
QUADRANGLE_NAME: VOLT
QUADRANT: NE
WEST_LONGITUDE: -105 41 15.00000
EAST_LONGITUDE: -105 37 30.00000
NORTH_LATITUDE: 48 30 0.00000
SOUTH_LATITUDE: 48 26 15.00000
PRODUCTION_DATE: 2001 9 15
RASTER_ORDER: LEFT_RIGHT/TOP_BOTTOM
BAND_ORGANIZATION: SINGLE FILE
BAND_CONTENT: BLACK&WHITE
BAND_CONTENT: UNDEFINED
BAND_CONTENT: UNDEFINED
BITS_PER_PIXEL: 8
SAMPLES_AND_LINES: 5332 7600
HORIZONTAL_DATUM: NAD83
HORIZONTAL_COORDINATE_SYSTEM: UTM
COORDINATE_ZONE: 13
HORIZONTAL_UNITS: meters
HORIZONTAL_RESOLUTION: 1.00000
SECONDARY_HORIZONTAL_DATUM: NAD27
XY_ORIGIN: 448804.00000 5372412.00000
SECONDARY_XY_ORIGIN: 448843.59000 5372190.05600
NATION: US
STATE: MT
NW_QUAD_CORNER_XY: 449213.25000 5372103.78800
NE_QUAD_CORNER_XY: 453830.20400 5372064.18000
SE_QUAD_CORNERY_XY: 453773.47200 5365117.04500
SW_QUAD_CORNER_XY: 449150.84400 5365156.66300
SECONDARY_NW_QUAD_XY: 449211.63500 5371884.82200
SECONDARY_NE_QUAD_XY: 453828.73600 5371845.21400
SECONDARY_SE_QUAD_XY: 453772.00400 5364898.08700
SECONDARY_SW_QUAD_XY: 449149.23000 5364937.70600
RMSE_XY: 3.17000
IMAGE_SOURCE: BLACK AND WHITE FILM
SOURCE_IMAGE_ID: NAPP 10725-077
SOURCE_IMAGE_DATE: 1997 9 2
SOURCE_DEM_DATE: 1998 0 0
AGENCY: WESTERN MAPPING CENTER (WMC)
PRODUCER: WOOLPERT LLP
PRODUCTION_SYSTEM: INTERGRAPH ISPM, ISIR
COMPRESSION: UNDEFINED
STANDARD_VERSION: 1996 12
METADATA_DATE: 2001 9 28
DATA_FILE_SIZE: 40528532
BYTE_COUNT: 5332
