FILENAME: O4810535.NWS.1165673.tif
QUADRANGLE_NAME: VOLT
QUADRANT: NW
WEST_LONGITUDE: -105 45 0.00000
EAST_LONGITUDE: -105 41 15.00000
NORTH_LATITUDE: 48 30 0.00000
SOUTH_LATITUDE: 48 26 15.00000
PRODUCTION_DATE: 2001 9 15
RASTER_ORDER: LEFT_RIGHT/TOP_BOTTOM
BAND_ORGANIZATION: SINGLE FILE
BAND_CONTENT: BLACK&WHITE
BAND_CONTENT: UNDEFINED
BAND_CONTENT: UNDEFINED
BITS_PER_PIXEL: 8
SAMPLES_AND_LINES: 5338 7605
HORIZONTAL_DATUM: NAD83
HORIZONTAL_COORDINATE_SYSTEM: UTM
COORDINATE_ZONE: 13
HORIZONTAL_UNITS: meters
HORIZONTAL_RESOLUTION: 1.00000
SECONDARY_HORIZONTAL_DATUM: NAD27
XY_ORIGIN: 444181.00000 5372456.00000
SECONDARY_XY_ORIGIN: 444220.62100 5372234.00000
NATION: US
STATE: MT
NW_QUAD_CORNER_XY: 444596.30300 5372147.16800
NE_QUAD_CORNER_XY: 449213.25000 5372103.78800
SE_QUAD_CORNERY_XY: 449150.84400 5365156.66300
SW_QUAD_CORNER_XY: 444528.22400 5365200.05400
SECONDARY_NW_QUAD_XY: 444594.54200 5371928.20400
SECONDARY_NE_QUAD_XY: 449211.63500 5371884.82200
SECONDARY_SE_QUAD_XY: 449149.23000 5364937.70600
SECONDARY_SW_QUAD_XY: 444526.46300 5364981.09900
RMSE_XY: 2.69000
IMAGE_SOURCE: BLACK AND WHITE FILM
SOURCE_IMAGE_ID: NAPP 9105-156
SOURCE_IMAGE_DATE: 1996 8 1
SOURCE_DEM_DATE: 1998 0 0
AGENCY: WESTERN MAPPING CENTER (WMC)
PRODUCER: WOOLPERT LLP
PRODUCTION_SYSTEM: INTERGRAPH ISPM, ISIR
COMPRESSION: UNDEFINED
STANDARD_VERSION: 1996 12
METADATA_DATE: 2001 9 17
DATA_FILE_SIZE: 40600828
BYTE_COUNT: 5338
