FILENAME: O4810530.NES.1162630.tif
QUADRANGLE_NAME: BREDETTE
QUADRANT: NE
WEST_LONGITUDE: -105 18 45.00000
EAST_LONGITUDE: -105 15 0.00000
NORTH_LATITUDE: 48 37 30.00000
SOUTH_LATITUDE: 48 33 45.00000
PRODUCTION_DATE: 2001 9 23
RASTER_ORDER: LEFT_RIGHT/TOP_BOTTOM
BAND_ORGANIZATION: SINGLE FILE
BAND_CONTENT: BLACK&WHITE
BAND_CONTENT: UNDEFINED
BAND_CONTENT: UNDEFINED
BITS_PER_PIXEL: 8
SAMPLES_AND_LINES: 5285 7578
HORIZONTAL_DATUM: NAD83
HORIZONTAL_COORDINATE_SYSTEM: UTM
COORDINATE_ZONE: 13
HORIZONTAL_UNITS: meters
HORIZONTAL_RESOLUTION: 1.00000
SECONDARY_HORIZONTAL_DATUM: NAD27
XY_ORIGIN: 476598.00000 5386126.00000
SECONDARY_XY_ORIGIN: 476637.30900 5385904.22600
NATION: US
STATE: MT
NW_QUAD_CORNER_XY: 476971.87400 5385817.29800
NE_QUAD_CORNER_XY: 481577.49500 5385800.33300
SE_QUAD_CORNERY_XY: 481554.75900 5378853.00500
SW_QUAD_CORNER_XY: 476943.45400 5378869.97500
SECONDARY_NW_QUAD_XY: 476971.14000 5385598.31300
SECONDARY_NE_QUAD_XY: 481576.90800 5385581.34700
SECONDARY_SE_QUAD_XY: 481554.17200 5378634.02600
SECONDARY_SW_QUAD_XY: 476942.72000 5378650.99600
RMSE_XY: 3.96000
IMAGE_SOURCE: BLACK AND WHITE FILM
SOURCE_IMAGE_ID: NAPP 9116-149
SOURCE_IMAGE_DATE: 1996 8 27
SOURCE_DEM_DATE: 1998 0 0
AGENCY: WESTERN MAPPING CENTER (WMC)
PRODUCER: WOOLPERT LLP
PRODUCTION_SYSTEM: INTERGRAPH ISPM, ISIR
COMPRESSION: UNDEFINED
STANDARD_VERSION: 1996 12
METADATA_DATE: 2001 9 23
DATA_FILE_SIZE: 40055015
BYTE_COUNT: 5285
