FILENAME: O4810530.NWS.1162631.tif
QUADRANGLE_NAME: BREDETTE
QUADRANT: NW
WEST_LONGITUDE: -105 22 30.00000
EAST_LONGITUDE: -105 18 45.00000
NORTH_LATITUDE: 48 37 30.00000
SOUTH_LATITUDE: 48 33 45.00000
PRODUCTION_DATE: 2001 9 23
RASTER_ORDER: LEFT_RIGHT/TOP_BOTTOM
BAND_ORGANIZATION: SINGLE FILE
BAND_CONTENT: BLACK&WHITE
BAND_CONTENT: UNDEFINED
BAND_CONTENT: UNDEFINED
BITS_PER_PIXEL: 8
SAMPLES_AND_LINES: 5291 7582
HORIZONTAL_DATUM: NAD83
HORIZONTAL_COORDINATE_SYSTEM: UTM
COORDINATE_ZONE: 13
HORIZONTAL_UNITS: meters
HORIZONTAL_RESOLUTION: 1.00000
SECONDARY_HORIZONTAL_DATUM: NAD27
XY_ORIGIN: 471986.00000 5386146.00000
SECONDARY_XY_ORIGIN: 472025.35400 5385924.19900
NATION: US
STATE: MT
NW_QUAD_CORNER_XY: 472366.25600 5385838.03300
NE_QUAD_CORNER_XY: 476971.87400 5385817.29800
SE_QUAD_CORNERY_XY: 476943.45400 5378869.97500
SW_QUAD_CORNER_XY: 472332.15200 5378890.71600
SECONDARY_NW_QUAD_XY: 472365.37600 5385619.04800
SECONDARY_NE_QUAD_XY: 476971.14000 5385598.31300
SECONDARY_SE_QUAD_XY: 476942.72000 5378650.99600
SECONDARY_SW_QUAD_XY: 472331.27100 5378671.73700
RMSE_XY: 5.62000
IMAGE_SOURCE: BLACK AND WHITE FILM
SOURCE_IMAGE_ID: NAPP 9116-121
SOURCE_IMAGE_DATE: 1996 8 27
SOURCE_DEM_DATE: 1998 0 0
AGENCY: WESTERN MAPPING CENTER (WMC)
PRODUCER: WOOLPERT LLP
PRODUCTION_SYSTEM: INTERGRAPH ISPM, ISIR
COMPRESSION: UNDEFINED
STANDARD_VERSION: 1996 12
METADATA_DATE: 2001 9 23
DATA_FILE_SIZE: 40121653
BYTE_COUNT: 5291
