FILENAME: O4810529.SWS.1162621.tif
QUADRANGLE_NAME: NIELSEN COULEE
QUADRANT: SW
WEST_LONGITUDE: -105 30 0.00000
EAST_LONGITUDE: -105 26 15.00000
NORTH_LATITUDE: 48 33 45.00000
SOUTH_LATITUDE: 48 30 0.00000
PRODUCTION_DATE: 2001 9 23
RASTER_ORDER: LEFT_RIGHT/TOP_BOTTOM
BAND_ORGANIZATION: SINGLE FILE
BAND_CONTENT: BLACK&WHITE
BAND_CONTENT: UNDEFINED
BAND_CONTENT: UNDEFINED
BITS_PER_PIXEL: 8
SAMPLES_AND_LINES: 5308 7590
HORIZONTAL_DATUM: NAD83
HORIZONTAL_COORDINATE_SYSTEM: UTM
COORDINATE_ZONE: 13
HORIZONTAL_UNITS: meters
HORIZONTAL_RESOLUTION: 1.00000
SECONDARY_HORIZONTAL_DATUM: NAD27
XY_ORIGIN: 462718.00000 5379252.00000
SECONDARY_XY_ORIGIN: 462757.47000 5379030.18600
NATION: US
STATE: MT
NW_QUAD_CORNER_XY: 463109.56100 5378943.51000
NE_QUAD_CORNER_XY: 467720.85400 5378915.22700
SE_QUAD_CORNERY_XY: 467681.10300 5371967.99200
SW_QUAD_CORNER_XY: 463064.13100 5371996.28200
SECONDARY_NW_QUAD_XY: 463108.38600 5378724.53400
SECONDARY_NE_QUAD_XY: 467719.82600 5378696.25000
SECONDARY_SE_QUAD_XY: 467680.07600 5371749.02200
SECONDARY_SW_QUAD_XY: 463062.95700 5371777.31400
RMSE_XY: 3.68000
IMAGE_SOURCE: BLACK AND WHITE FILM
SOURCE_IMAGE_ID: NAPP 9093-145
SOURCE_IMAGE_DATE: 1996 7 9
SOURCE_DEM_DATE: 1998 0 0
AGENCY: WESTERN MAPPING CENTER (WMC)
PRODUCER: WOOLPERT LLP
PRODUCTION_SYSTEM: INTERGRAPH ISPM, ISIR
COMPRESSION: UNDEFINED
STANDARD_VERSION: 1996 12
METADATA_DATE: 2001 9 23
DATA_FILE_SIZE: 40293028
BYTE_COUNT: 5308
