FILENAME: O4810528.NES.1165613.tif
QUADRANGLE_NAME: JAKES COULEE
QUADRANT: NE
WEST_LONGITUDE: -105 33 45.00000
EAST_LONGITUDE: -105 30 0.00000
NORTH_LATITUDE: 48 37 30.00000
SOUTH_LATITUDE: 48 33 45.00000
PRODUCTION_DATE: 2001 9 15
RASTER_ORDER: LEFT_RIGHT/TOP_BOTTOM
BAND_ORGANIZATION: SINGLE FILE
BAND_CONTENT: BLACK&WHITE
BAND_CONTENT: UNDEFINED
BAND_CONTENT: UNDEFINED
BITS_PER_PIXEL: 8
SAMPLES_AND_LINES: 5309 7593
HORIZONTAL_DATUM: NAD83
HORIZONTAL_COORDINATE_SYSTEM: UTM
COORDINATE_ZONE: 13
HORIZONTAL_UNITS: meters
HORIZONTAL_RESOLUTION: 1.00000
SECONDARY_HORIZONTAL_DATUM: NAD27
XY_ORIGIN: 458152.00000 5386231.00000
SECONDARY_XY_ORIGIN: 458191.47600 5386009.08700
NATION: US
STATE: MT
NW_QUAD_CORNER_XY: 458549.43100 5385922.85900
NE_QUAD_CORNER_XY: 463155.03400 5385890.81400
SE_QUAD_CORNERY_XY: 463109.56100 5378943.51000
SW_QUAD_CORNER_XY: 458498.27300 5378975.56500
SECONDARY_NW_QUAD_XY: 458548.11000 5385703.87700
SECONDARY_NE_QUAD_XY: 463153.86000 5385671.83100
SECONDARY_SE_QUAD_XY: 463108.38600 5378724.53400
SECONDARY_SW_QUAD_XY: 458496.95200 5378756.58900
RMSE_XY: 4.08000
IMAGE_SOURCE: BLACK AND WHITE FILM
SOURCE_IMAGE_ID: NAPP 9094-075
SOURCE_IMAGE_DATE: 1996 7 9
SOURCE_DEM_DATE: 1998 0 0
AGENCY: WESTERN MAPPING CENTER (WMC)
PRODUCER: WOOLPERT LLP
PRODUCTION_SYSTEM: INTERGRAPH ISPM, ISIR
COMPRESSION: UNDEFINED
STANDARD_VERSION: 1996 12
METADATA_DATE: 2001 9 17
DATA_FILE_SIZE: 40316546
BYTE_COUNT: 5309
