FILENAME: O4810528.SWS.1165617.tif
QUADRANGLE_NAME: JAKES COULEE
QUADRANT: SW
WEST_LONGITUDE: -105 37 30.00000
EAST_LONGITUDE: -105 33 45.00000
NORTH_LATITUDE: 48 33 45.00000
SOUTH_LATITUDE: 48 30 0.00000
PRODUCTION_DATE: 2001 9 15
RASTER_ORDER: LEFT_RIGHT/TOP_BOTTOM
BAND_ORGANIZATION: SINGLE FILE
BAND_CONTENT: BLACK&WHITE
BAND_CONTENT: UNDEFINED
BAND_CONTENT: UNDEFINED
BITS_PER_PIXEL: 8
SAMPLES_AND_LINES: 5320 7597
HORIZONTAL_DATUM: NAD83
HORIZONTAL_COORDINATE_SYSTEM: UTM
COORDINATE_ZONE: 13
HORIZONTAL_UNITS: meters
HORIZONTAL_RESOLUTION: 1.00000
SECONDARY_HORIZONTAL_DATUM: NAD27
XY_ORIGIN: 453484.00000 5379320.00000
SECONDARY_XY_ORIGIN: 453523.53300 5379098.07100
NATION: US
STATE: MT
NW_QUAD_CORNER_XY: 453886.99100 5379011.39000
NE_QUAD_CORNER_XY: 458498.27300 5378975.56500
SE_QUAD_CORNERY_XY: 458447.16500 5372028.34500
SW_QUAD_CORNER_XY: 453830.20400 5372064.18000
SECONDARY_NW_QUAD_XY: 453885.52300 5378792.41600
SECONDARY_NE_QUAD_XY: 458496.95200 5378756.58900
SECONDARY_SE_QUAD_XY: 458445.84400 5371809.37700
SECONDARY_SW_QUAD_XY: 453828.73600 5371845.21400
RMSE_XY: 3.82000
IMAGE_SOURCE: BLACK AND WHITE FILM
SOURCE_IMAGE_ID: NAPP 9094-106
SOURCE_IMAGE_DATE: 1996 7 9
SOURCE_DEM_DATE: 1998 0 0
AGENCY: WESTERN MAPPING CENTER (WMC)
PRODUCER: WOOLPERT LLP
PRODUCTION_SYSTEM: INTERGRAPH ISPM, ISIR
COMPRESSION: UNDEFINED
STANDARD_VERSION: 1996 12
METADATA_DATE: 2001 9 17
DATA_FILE_SIZE: 40421360
BYTE_COUNT: 5320
