FILENAME: O4810525.SES.1165579.tif
QUADRANGLE_NAME: HAUGENS HILL
QUADRANT: SE
WEST_LONGITUDE: -105 56 15.00000
EAST_LONGITUDE: -105 52 30.00000
NORTH_LATITUDE: 48 33 45.00000
SOUTH_LATITUDE: 48 30 0.00000
PRODUCTION_DATE: 2001 9 15
RASTER_ORDER: LEFT_RIGHT/TOP_BOTTOM
BAND_ORGANIZATION: SINGLE FILE
BAND_CONTENT: BLACK&WHITE
BAND_CONTENT: UNDEFINED
BAND_CONTENT: UNDEFINED
BITS_PER_PIXEL: 8
SAMPLES_AND_LINES: 5349 7616
HORIZONTAL_DATUM: NAD83
HORIZONTAL_COORDINATE_SYSTEM: UTM
COORDINATE_ZONE: 13
HORIZONTAL_UNITS: meters
HORIZONTAL_RESOLUTION: 1.00000
SECONDARY_HORIZONTAL_DATUM: NAD27
XY_ORIGIN: 430398.00000 5379556.00000
SECONDARY_XY_ORIGIN: 430437.68700 5379333.75000
NATION: US
STATE: MT
NW_QUAD_CORNER_XY: 430830.69700 5379247.09000
NE_QUAD_CORNER_XY: 435441.93900 5379192.40700
SE_QUAD_CORNERY_XY: 435362.43400 5372245.24500
SW_QUAD_CORNER_XY: 430745.51300 5372299.94300
SECONDARY_NW_QUAD_XY: 430828.49500 5379028.12400
SECONDARY_NE_QUAD_XY: 435439.88400 5378973.43900
SECONDARY_SE_QUAD_XY: 435360.37900 5372026.28400
SECONDARY_SW_QUAD_XY: 430743.31100 5372080.98400
RMSE_XY: 2.90000
IMAGE_SOURCE: BLACK AND WHITE FILM
SOURCE_IMAGE_ID: NAPP 9088-123
SOURCE_IMAGE_DATE: 1996 7 7
SOURCE_DEM_DATE: 1998 0 0
AGENCY: WESTERN MAPPING CENTER (WMC)
PRODUCER: WOOLPERT LLP
PRODUCTION_SYSTEM: INTERGRAPH ISPM, ISIR
COMPRESSION: UNDEFINED
STANDARD_VERSION: 1996 12
METADATA_DATE: 2001 9 17
DATA_FILE_SIZE: 40743333
BYTE_COUNT: 5349
