FILENAME: O4810523.SWS.1162593.tif
QUADRANGLE_NAME: PLEASANT PRAIRIE NW
QUADRANT: SW
WEST_LONGITUDE: -105 15 0.00000
EAST_LONGITUDE: -105 11 15.00000
NORTH_LATITUDE: 48 41 15.00000
SOUTH_LATITUDE: 48 37 30.00000
PRODUCTION_DATE: 2001 9 27
RASTER_ORDER: LEFT_RIGHT/TOP_BOTTOM
BAND_ORGANIZATION: SINGLE FILE
BAND_CONTENT: BLACK&WHITE
BAND_CONTENT: UNDEFINED
BAND_CONTENT: UNDEFINED
BITS_PER_PIXEL: 8
SAMPLES_AND_LINES: 5274 7574
HORIZONTAL_DATUM: NAD83
HORIZONTAL_COORDINATE_SYSTEM: UTM
COORDINATE_ZONE: 13
HORIZONTAL_UNITS: meters
HORIZONTAL_RESOLUTION: 1.00000
SECONDARY_HORIZONTAL_DATUM: NAD27
XY_ORIGIN: 481232.00000 5393056.00000
SECONDARY_XY_ORIGIN: 481271.22900 5392834.17500
NATION: US
STATE: MT
NW_QUAD_CORNER_XY: 481600.25400 5392747.73700
NE_QUAD_CORNER_XY: 486200.18800 5392734.54500
SE_QUAD_CORNERY_XY: 486183.11900 5385787.13800
SW_QUAD_CORNER_XY: 481577.49500 5385800.33300
SECONDARY_NW_QUAD_XY: 481599.66600 5392528.74500
SECONDARY_NE_QUAD_XY: 486199.74700 5392515.55300
SECONDARY_SE_QUAD_XY: 486182.67900 5385568.15200
SECONDARY_SW_QUAD_XY: 481576.90800 5385581.34700
RMSE_XY: 3.52000
IMAGE_SOURCE: BLACK AND WHITE FILM
SOURCE_IMAGE_ID: NAPP 10725-050
SOURCE_IMAGE_DATE: 1997 9 2
SOURCE_DEM_DATE: 1998 0 0
AGENCY: WESTERN MAPPING CENTER (WMC)
PRODUCER: WOOLPERT LLP
PRODUCTION_SYSTEM: INTERGRAPH ISPM, ISIR
COMPRESSION: UNDEFINED
STANDARD_VERSION: 1996 12
METADATA_DATE: 2001 9 27
DATA_FILE_SIZE: 39950550
BYTE_COUNT: 5274
