FILENAME: O4810522.NES.1162602.tif
QUADRANGLE_NAME: LINE COULEE
QUADRANT: NE
WEST_LONGITUDE: -105 18 45.00000
EAST_LONGITUDE: -105 15 0.00000
NORTH_LATITUDE: 48 45 0.00000
SOUTH_LATITUDE: 48 41 15.00000
PRODUCTION_DATE: 2001 9 23
RASTER_ORDER: LEFT_RIGHT/TOP_BOTTOM
BAND_ORGANIZATION: SINGLE FILE
BAND_CONTENT: BLACK&WHITE
BAND_CONTENT: UNDEFINED
BAND_CONTENT: UNDEFINED
BITS_PER_PIXEL: 8
SAMPLES_AND_LINES: 5274 7579
HORIZONTAL_DATUM: NAD83
HORIZONTAL_COORDINATE_SYSTEM: UTM
COORDINATE_ZONE: 13
HORIZONTAL_UNITS: meters
HORIZONTAL_RESOLUTION: 1.00000
SECONDARY_HORIZONTAL_DATUM: NAD27
XY_ORIGIN: 476655.00000 5400021.00000
SECONDARY_XY_ORIGIN: 476694.24400 5399799.09200
NATION: US
STATE: MT
NW_QUAD_CORNER_XY: 477028.79800 5399712.17200
NE_QUAD_CORNER_XY: 481623.03400 5399695.21600
SE_QUAD_CORNERY_XY: 481600.25400 5392747.73700
SW_QUAD_CORNER_XY: 477000.32200 5392764.69700
SECONDARY_NW_QUAD_XY: 477028.06400 5399493.17500
SECONDARY_NE_QUAD_XY: 481622.44700 5399476.21900
SECONDARY_SE_QUAD_XY: 481599.66600 5392528.74500
SECONDARY_SW_QUAD_XY: 476999.58800 5392545.70600
RMSE_XY: 4.81000
IMAGE_SOURCE: BLACK AND WHITE FILM
SOURCE_IMAGE_ID: NAPP 9116-145
SOURCE_IMAGE_DATE: 1996 8 27
SOURCE_DEM_DATE: 1998 0 0
AGENCY: WESTERN MAPPING CENTER (WMC)
PRODUCER: WOOLPERT LLP
PRODUCTION_SYSTEM: INTERGRAPH ISPM, ISIR
COMPRESSION: UNDEFINED
STANDARD_VERSION: 1996 12
METADATA_DATE: 2001 9 23
DATA_FILE_SIZE: 39976920
BYTE_COUNT: 5274
