FILENAME: O4810521.SES.1162616.tif
QUADRANGLE_NAME: CABARETT COULEE
QUADRANT: SE
WEST_LONGITUDE: -105 26 15.00000
EAST_LONGITUDE: -105 22 30.00000
NORTH_LATITUDE: 48 41 15.00000
SOUTH_LATITUDE: 48 37 30.00000
PRODUCTION_DATE: 2001 9 23
RASTER_ORDER: LEFT_RIGHT/TOP_BOTTOM
BAND_ORGANIZATION: SINGLE FILE
BAND_CONTENT: BLACK&WHITE
BAND_CONTENT: UNDEFINED
BAND_CONTENT: UNDEFINED
BITS_PER_PIXEL: 8
SAMPLES_AND_LINES: 5291 7585
HORIZONTAL_DATUM: NAD83
HORIZONTAL_COORDINATE_SYSTEM: UTM
COORDINATE_ZONE: 13
HORIZONTAL_UNITS: meters
HORIZONTAL_RESOLUTION: 1.00000
SECONDARY_HORIZONTAL_DATUM: NAD27
XY_ORIGIN: 467415.00000 5393118.00000
SECONDARY_XY_ORIGIN: 467454.37000 5392896.12500
NATION: US
STATE: MT
NW_QUAD_CORNER_XY: 467800.47100 5392809.92500
NE_QUAD_CORNER_XY: 472400.39400 5392785.42600
SE_QUAD_CORNERY_XY: 472366.25600 5385838.03300
SW_QUAD_CORNER_XY: 467760.64300 5385862.53800
SECONDARY_NW_QUAD_XY: 467799.44300 5392590.93500
SECONDARY_NE_QUAD_XY: 472399.51400 5392566.43600
SECONDARY_SE_QUAD_XY: 472365.37600 5385619.04800
SECONDARY_SW_QUAD_XY: 467759.61500 5385643.55400
RMSE_XY: 3.96000
IMAGE_SOURCE: BLACK AND WHITE FILM
SOURCE_IMAGE_ID: NAPP 9093-116
SOURCE_IMAGE_DATE: 1996 7 9
SOURCE_DEM_DATE: 1998 0 0
AGENCY: WESTERN MAPPING CENTER (WMC)
PRODUCER: WOOLPERT LLP
PRODUCTION_SYSTEM: INTERGRAPH ISPM, ISIR
COMPRESSION: UNDEFINED
STANDARD_VERSION: 1996 12
METADATA_DATE: 2001 9 23
DATA_FILE_SIZE: 40137526
BYTE_COUNT: 5291
