FILENAME: O4810519.NES.1165652.tif
QUADRANGLE_NAME: SHIPSTEAD COULEE
QUADRANT: NE
WEST_LONGITUDE: -105 41 15.00000
EAST_LONGITUDE: -105 37 30.00000
NORTH_LATITUDE: 48 45 0.00000
SOUTH_LATITUDE: 48 41 15.00000
PRODUCTION_DATE: 2001 9 15
RASTER_ORDER: LEFT_RIGHT/TOP_BOTTOM
BAND_ORGANIZATION: SINGLE FILE
BAND_CONTENT: BLACK&WHITE
BAND_CONTENT: UNDEFINED
BAND_CONTENT: UNDEFINED
BITS_PER_PIXEL: 8
SAMPLES_AND_LINES: 5309 7601
HORIZONTAL_DATUM: NAD83
HORIZONTAL_COORDINATE_SYSTEM: UTM
COORDINATE_ZONE: 13
HORIZONTAL_UNITS: meters
HORIZONTAL_RESOLUTION: 1.00000
SECONDARY_HORIZONTAL_DATUM: NAD27
XY_ORIGIN: 449054.00000 5400202.00000
SECONDARY_XY_ORIGIN: 449093.49300 5399979.89800
NATION: US
STATE: MT
NW_QUAD_CORNER_XY: 449463.48000 5399893.03400
NE_QUAD_CORNER_XY: 454057.68500 5399853.47000
SE_QUAD_CORNERY_XY: 454000.73200 5392906.03500
SW_QUAD_CORNER_XY: 449400.83200 5392945.61000
SECONDARY_NW_QUAD_XY: 449461.86500 5399674.04300
SECONDARY_NE_QUAD_XY: 454056.21700 5399634.47800
SECONDARY_SE_QUAD_XY: 453999.26400 5392687.04800
SECONDARY_SW_QUAD_XY: 449399.21700 5392726.62500
RMSE_XY: 4.12000
IMAGE_SOURCE: BLACK AND WHITE FILM
SOURCE_IMAGE_ID: NAPP 9105-127
SOURCE_IMAGE_DATE: 1996 8 1
SOURCE_DEM_DATE: 1998 0 0
AGENCY: WESTERN MAPPING CENTER (WMC)
PRODUCER: WOOLPERT LLP
PRODUCTION_SYSTEM: INTERGRAPH ISPM, ISIR
COMPRESSION: UNDEFINED
STANDARD_VERSION: 1996 12
METADATA_DATE: 2001 9 17
DATA_FILE_SIZE: 40359018
BYTE_COUNT: 5309
