FILENAME: O4810515.NES.1162586.tif
QUADRANGLE_NAME: FLAXVILLE
QUADRANT: NE
WEST_LONGITUDE: -105 11 15.00000
EAST_LONGITUDE: -105 7 30.00000
NORTH_LATITUDE: 48 52 30.00000
SOUTH_LATITUDE: 48 48 45.00000
PRODUCTION_DATE: 2001 9 23
RASTER_ORDER: LEFT_RIGHT/TOP_BOTTOM
BAND_ORGANIZATION: SINGLE FILE
BAND_CONTENT: BLACK&WHITE
BAND_CONTENT: UNDEFINED
BAND_CONTENT: UNDEFINED
BITS_PER_PIXEL: 8
SAMPLES_AND_LINES: 5251 7571
HORIZONTAL_DATUM: NAD83
HORIZONTAL_COORDINATE_SYSTEM: UTM
COORDINATE_ZONE: 13
HORIZONTAL_UNITS: meters
HORIZONTAL_RESOLUTION: 1.00000
SECONDARY_HORIZONTAL_DATUM: NAD27
XY_ORIGIN: 485889.00000 5413886.00000
SECONDARY_XY_ORIGIN: 485928.10800 5413664.06500
NATION: US
STATE: MT
NW_QUAD_CORNER_XY: 486251.49400 5413577.22100
NE_QUAD_CORNER_XY: 490834.32800 5413567.80700
SE_QUAD_CORNERY_XY: 490822.91600 5406620.17000
SW_QUAD_CORNER_XY: 486234.37500 5406629.58700
SECONDARY_NW_QUAD_XY: 486251.05300 5413358.21600
SECONDARY_NE_QUAD_XY: 490834.03400 5413348.80100
SECONDARY_SE_QUAD_XY: 490822.62200 5406401.16800
SECONDARY_SW_QUAD_XY: 486233.93500 5406410.58500
RMSE_XY: 3.43000
IMAGE_SOURCE: BLACK AND WHITE FILM
SOURCE_IMAGE_ID: NAPP 9108-130
SOURCE_IMAGE_DATE: 1996 8 8
SOURCE_DEM_DATE: 1998 0 0
AGENCY: WESTERN MAPPING CENTER (WMC)
PRODUCER: WOOLPERT LLP
PRODUCTION_SYSTEM: INTERGRAPH ISPM, ISIR
COMPRESSION: UNDEFINED
STANDARD_VERSION: 1996 12
METADATA_DATE: 2001 9 23
DATA_FILE_SIZE: 39760572
BYTE_COUNT: 5251
