FILENAME: O4810515.NWS.1162587.tif
QUADRANGLE_NAME: FLAXVILLE
QUADRANT: NW
WEST_LONGITUDE: -105 15 0.00000
EAST_LONGITUDE: -105 11 15.00000
NORTH_LATITUDE: 48 52 30.00000
SOUTH_LATITUDE: 48 48 45.00000
PRODUCTION_DATE: 2001 9 23
RASTER_ORDER: LEFT_RIGHT/TOP_BOTTOM
BAND_ORGANIZATION: SINGLE FILE
BAND_CONTENT: BLACK&WHITE
BAND_CONTENT: UNDEFINED
BAND_CONTENT: UNDEFINED
BITS_PER_PIXEL: 8
SAMPLES_AND_LINES: 5256 7575
HORIZONTAL_DATUM: NAD83
HORIZONTAL_COORDINATE_SYSTEM: UTM
COORDINATE_ZONE: 13
HORIZONTAL_UNITS: meters
HORIZONTAL_RESOLUTION: 1.00000
SECONDARY_HORIZONTAL_DATUM: NAD27
XY_ORIGIN: 481301.00000 5413899.00000
SECONDARY_XY_ORIGIN: 481340.16900 5413677.02200
NATION: US
STATE: MT
NW_QUAD_CORNER_XY: 481668.66200 5413590.40100
NE_QUAD_CORNER_XY: 486251.49400 5413577.22100
SE_QUAD_CORNERY_XY: 486234.37500 5406629.58700
SW_QUAD_CORNER_XY: 481645.83700 5406642.77100
SECONDARY_NW_QUAD_XY: 481668.07400 5413371.39600
SECONDARY_NE_QUAD_XY: 486251.05300 5413358.21600
SECONDARY_SE_QUAD_XY: 486233.93500 5406410.58500
SECONDARY_SW_QUAD_XY: 481645.25000 5406423.76900
RMSE_XY: 4.72000
IMAGE_SOURCE: BLACK AND WHITE FILM
SOURCE_IMAGE_ID: NAPP 10725-056
SOURCE_IMAGE_DATE: 1997 9 2
SOURCE_DEM_DATE: 1998 0 0
AGENCY: WESTERN MAPPING CENTER (WMC)
PRODUCER: WOOLPERT LLP
PRODUCTION_SYSTEM: INTERGRAPH ISPM, ISIR
COMPRESSION: UNDEFINED
STANDARD_VERSION: 1996 12
METADATA_DATE: 2001 9 23
DATA_FILE_SIZE: 39819456
BYTE_COUNT: 5256
