FILENAME: O4810515.SWS.1162589.tif
QUADRANGLE_NAME: FLAXVILLE
QUADRANT: SW
WEST_LONGITUDE: -105 15 0.00000
EAST_LONGITUDE: -105 11 15.00000
NORTH_LATITUDE: 48 48 45.00000
SOUTH_LATITUDE: 48 45 0.00000
PRODUCTION_DATE: 2001 9 23
RASTER_ORDER: LEFT_RIGHT/TOP_BOTTOM
BAND_ORGANIZATION: SINGLE FILE
BAND_CONTENT: BLACK&WHITE
BAND_CONTENT: UNDEFINED
BAND_CONTENT: UNDEFINED
BITS_PER_PIXEL: 8
SAMPLES_AND_LINES: 5262 7574
HORIZONTAL_DATUM: NAD83
HORIZONTAL_COORDINATE_SYSTEM: UTM
COORDINATE_ZONE: 13
HORIZONTAL_UNITS: meters
HORIZONTAL_RESOLUTION: 1.00000
SECONDARY_HORIZONTAL_DATUM: NAD27
XY_ORIGIN: 481278.00000 5406951.00000
SECONDARY_XY_ORIGIN: 481317.18200 5406729.05500
NATION: US
STATE: MT
NW_QUAD_CORNER_XY: 481645.83700 5406642.77100
NE_QUAD_CORNER_XY: 486234.37500 5406629.58700
SE_QUAD_CORNERY_XY: 486217.27300 5399682.02800
SW_QUAD_CORNER_XY: 481623.03400 5399695.21600
SECONDARY_NW_QUAD_XY: 481645.25000 5406423.76900
SECONDARY_NE_QUAD_XY: 486233.93500 5406410.58500
SECONDARY_SE_QUAD_XY: 486216.83300 5399463.03100
SECONDARY_SW_QUAD_XY: 481622.44700 5399476.21900
RMSE_XY: 3.48000
IMAGE_SOURCE: BLACK AND WHITE FILM
SOURCE_IMAGE_ID: NAPP 10725-054
SOURCE_IMAGE_DATE: 1997 9 2
SOURCE_DEM_DATE: 1998 0 0
AGENCY: WESTERN MAPPING CENTER (WMC)
PRODUCER: WOOLPERT LLP
PRODUCTION_SYSTEM: INTERGRAPH ISPM, ISIR
COMPRESSION: UNDEFINED
STANDARD_VERSION: 1996 12
METADATA_DATE: 2001 9 23
DATA_FILE_SIZE: 39859650
BYTE_COUNT: 5262
