FILENAME: O4810514.NWS.1162599.tif
QUADRANGLE_NAME: MADOC
QUADRANT: NW
WEST_LONGITUDE: -105 22 30.00000
EAST_LONGITUDE: -105 18 45.00000
NORTH_LATITUDE: 48 52 30.00000
SOUTH_LATITUDE: 48 48 45.00000
PRODUCTION_DATE: 2001 9 23
RASTER_ORDER: LEFT_RIGHT/TOP_BOTTOM
BAND_ORGANIZATION: SINGLE FILE
BAND_CONTENT: BLACK&WHITE
BAND_CONTENT: UNDEFINED
BAND_CONTENT: UNDEFINED
BITS_PER_PIXEL: 8
SAMPLES_AND_LINES: 5268 7582
HORIZONTAL_DATUM: NAD83
HORIZONTAL_COORDINATE_SYSTEM: UTM
COORDINATE_ZONE: 13
HORIZONTAL_UNITS: meters
HORIZONTAL_RESOLUTION: 1.00000
SECONDARY_HORIZONTAL_DATUM: NAD27
XY_ORIGIN: 472123.00000 5413936.00000
SECONDARY_XY_ORIGIN: 472162.28000 5413714.06700
NATION: US
STATE: MT
NW_QUAD_CORNER_XY: 472503.00700 5413628.05900
NE_QUAD_CORNER_XY: 477085.83200 5413607.34700
SE_QUAD_CORNERY_XY: 477057.30200 5406659.72200
SW_QUAD_CORNER_XY: 472468.77000 5406680.43900
SECONDARY_NW_QUAD_XY: 472502.12600 5413409.05500
SECONDARY_NE_QUAD_XY: 477085.09800 5413388.34300
SECONDARY_SE_QUAD_XY: 477056.56700 5406440.72100
SECONDARY_SW_QUAD_XY: 472467.88900 5406461.43900
RMSE_XY: 4.31000
IMAGE_SOURCE: BLACK AND WHITE FILM
SOURCE_IMAGE_ID: NAPP 9122-161
SOURCE_IMAGE_DATE: 1996 9 11
SOURCE_DEM_DATE: 1998 0 0
AGENCY: WESTERN MAPPING CENTER (WMC)
PRODUCER: WOOLPERT LLP
PRODUCTION_SYSTEM: INTERGRAPH ISPM, ISIR
COMPRESSION: UNDEFINED
STANDARD_VERSION: 1996 12
METADATA_DATE: 2001 9 23
DATA_FILE_SIZE: 39947244
BYTE_COUNT: 5268
