FILENAME: O4810513.NES.1162610.tif
QUADRANGLE_NAME: SCOBEY
QUADRANT: NE
WEST_LONGITUDE: -105 26 15.00000
EAST_LONGITUDE: -105 22 30.00000
NORTH_LATITUDE: 48 52 30.00000
SOUTH_LATITUDE: 48 48 45.00000
PRODUCTION_DATE: 2001 9 23
RASTER_ORDER: LEFT_RIGHT/TOP_BOTTOM
BAND_ORGANIZATION: SINGLE FILE
BAND_CONTENT: BLACK&WHITE
BAND_CONTENT: UNDEFINED
BAND_CONTENT: UNDEFINED
BITS_PER_PIXEL: 8
SAMPLES_AND_LINES: 5275 7586
HORIZONTAL_DATUM: NAD83
HORIZONTAL_COORDINATE_SYSTEM: UTM
COORDINATE_ZONE: 13
HORIZONTAL_UNITS: meters
HORIZONTAL_RESOLUTION: 1.00000
SECONDARY_HORIZONTAL_DATUM: NAD27
XY_ORIGIN: 467534.00000 5413961.00000
SECONDARY_XY_ORIGIN: 467573.33600 5413739.08900
NATION: US
STATE: MT
NW_QUAD_CORNER_XY: 467920.18600 5413652.53600
NE_QUAD_CORNER_XY: 472503.00700 5413628.05900
SE_QUAD_CORNERY_XY: 472468.77000 5406680.43900
SW_QUAD_CORNER_XY: 467880.24200 5406704.92400
SECONDARY_NW_QUAD_XY: 467919.15800 5413433.53300
SECONDARY_NE_QUAD_XY: 472502.12600 5413409.05500
SECONDARY_SE_QUAD_XY: 472467.88900 5406461.43900
SECONDARY_SW_QUAD_XY: 467879.21500 5406485.92400
RMSE_XY: 3.06000
IMAGE_SOURCE: BLACK AND WHITE FILM
SOURCE_IMAGE_ID: NAPP 9093-122
SOURCE_IMAGE_DATE: 1996 7 9
SOURCE_DEM_DATE: 1998 0 0
AGENCY: WESTERN MAPPING CENTER (WMC)
PRODUCER: WOOLPERT LLP
PRODUCTION_SYSTEM: INTERGRAPH ISPM, ISIR
COMPRESSION: UNDEFINED
STANDARD_VERSION: 1996 12
METADATA_DATE: 2001 9 23
DATA_FILE_SIZE: 40021425
BYTE_COUNT: 5275
