FILENAME: O4810508.SES.1162572.tif
QUADRANGLE_NAME: GOODALE COULEE
QUADRANT: SE
WEST_LONGITUDE: -105 3 45.00000
EAST_LONGITUDE: -105 0 0.00000
NORTH_LATITUDE: 48 56 15.00000
SOUTH_LATITUDE: 48 52 30.00000
PRODUCTION_DATE: 2001 9 23
RASTER_ORDER: LEFT_RIGHT/TOP_BOTTOM
BAND_ORGANIZATION: SINGLE FILE
BAND_CONTENT: BLACK&WHITE
BAND_CONTENT: UNDEFINED
BAND_CONTENT: UNDEFINED
BITS_PER_PIXEL: 8
SAMPLES_AND_LINES: 5232 7563
HORIZONTAL_DATUM: NAD83
HORIZONTAL_COORDINATE_SYSTEM: UTM
COORDINATE_ZONE: 13
HORIZONTAL_UNITS: METERS
HORIZONTAL_RESOLUTION: 1.00000
SECONDARY_HORIZONTAL_DATUM: NAD27
XY_ORIGIN: 495073.00000 5420818.00000
SECONDARY_XY_ORIGIN: 495111.96600 5420596.15100
NATION: US
STATE: MT
NW_QUAD_CORNER_XY: 495422.87500 5420509.87300
NE_QUAD_CORNER_XY: 500000.00000 5420507.99100
SE_QUAD_CORNERY_XY: 500000.00000 5413560.27600
SW_QUAD_CORNER_XY: 495417.16400 5413562.15800
SECONDARY_NW_QUAD_XY: 495422.72800 5420290.86400
SECONDARY_NE_QUAD_XY: 500000.00000 5420288.98200
SECONDARY_SE_QUAD_XY: 500000.00000 5413341.27000
SECONDARY_SW_QUAD_XY: 495417.01700 5413343.15300
RMSE_XY: 3.42000
IMAGE_SOURCE: BLACK AND WHITE FILM
SOURCE_IMAGE_ID: NAPP 9096-144
SOURCE_IMAGE_DATE: 1996 7 9
SOURCE_DEM_DATE: 1998 0 0
AGENCY: WESTERN MAPPING CENTER (WMC)
PRODUCER: WOOLPERT LLP
PRODUCTION_SYSTEM: INTERGRAPH ISPM, ISIR
COMPRESSION: UNDEFINED
STANDARD_VERSION: 1996 12
METADATA_DATE: 2001 10 1
DATA_FILE_SIZE: 39574848
BYTE_COUNT: 5232
