FILENAME: O4810504.NES.1165561.tif
QUADRANGLE_NAME: FOUR BUTTES NE
QUADRANT: NE
WEST_LONGITUDE: -105 33 45.00000
EAST_LONGITUDE: -105 30 0.00000
NORTH_LATITUDE: 49 0 0.00000
SOUTH_LATITUDE: 48 56 15.00000
PRODUCTION_DATE: 2001 9 15
RASTER_ORDER: LEFT_RIGHT/TOP_BOTTOM
BAND_ORGANIZATION: SINGLE FILE
BAND_CONTENT: BLACK&WHITE
BAND_CONTENT: UNDEFINED
BAND_CONTENT: UNDEFINED
BITS_PER_PIXEL: 8
SAMPLES_AND_LINES: 5274 7594
HORIZONTAL_DATUM: NAD83
HORIZONTAL_COORDINATE_SYSTEM: UTM
COORDINATE_ZONE: 13
HORIZONTAL_UNITS: meters
HORIZONTAL_RESOLUTION: 1.00000
SECONDARY_HORIZONTAL_DATUM: NAD27
XY_ORIGIN: 458460.00000 5427917.00000
SECONDARY_XY_ORIGIN: 458499.43200 5427695.09000
NATION: US
NATION: CA
STATE: MT
NW_QUAD_CORNER_XY: 458857.42100 5427608.20300
NE_QUAD_CORNER_XY: 463428.80200 5427576.21300
SE_QUAD_CORNERY_XY: 463383.06400 5420628.45900
SW_QUAD_CORNER_XY: 458805.96600 5420660.45800
SECONDARY_NW_QUAD_XY: 458856.10000 5427389.19800
SECONDARY_NE_QUAD_XY: 463427.62700 5427357.20700
SECONDARY_SE_QUAD_XY: 463381.88900 5420409.45400
SECONDARY_SW_QUAD_XY: 458804.64400 5420441.45500
RMSE_XY: 4.79000
IMAGE_SOURCE: BLACK AND WHITE FILM
SOURCE_IMAGE_ID: NAPP 9094-087
SOURCE_IMAGE_DATE: 1996 7 9
SOURCE_DEM_DATE: 1998 0 0
AGENCY: WESTERN MAPPING CENTER (WMC)
PRODUCER: WOOLPERT LLP
PRODUCTION_SYSTEM: INTERGRAPH ISPM, ISIR
COMPRESSION: UNDEFINED
STANDARD_VERSION: 1996 12
METADATA_DATE: 2001 9 17
DATA_FILE_SIZE: 40056030
BYTE_COUNT: 5274
