FILENAME: O4810503.SES.1165646.tif
QUADRANGLE_NAME: FOUR BUTTES NW
QUADRANT: SE
WEST_LONGITUDE: -105 41 15.00000
EAST_LONGITUDE: -105 37 30.00000
NORTH_LATITUDE: 48 56 15.00000
SOUTH_LATITUDE: 48 52 30.00000
PRODUCTION_DATE: 2001 9 15
RASTER_ORDER: LEFT_RIGHT/TOP_BOTTOM
BAND_ORGANIZATION: SINGLE FILE
BAND_CONTENT: BLACK&WHITE
BAND_CONTENT: UNDEFINED
BAND_CONTENT: UNDEFINED
BITS_PER_PIXEL: 8
SAMPLES_AND_LINES: 5292 7601
HORIZONTAL_DATUM: NAD83
HORIZONTAL_COORDINATE_SYSTEM: UTM
COORDINATE_ZONE: 13
HORIZONTAL_UNITS: meters
HORIZONTAL_RESOLUTION: 1.00000
SECONDARY_HORIZONTAL_DATUM: NAD27
XY_ORIGIN: 449242.00000 5421044.00000
SECONDARY_XY_ORIGIN: 449281.50900 5420821.95800
NATION: US
STATE: MT
NW_QUAD_CORNER_XY: 449651.79000 5420735.75300
NE_QUAD_CORNER_XY: 454228.87400 5420696.22300
SE_QUAD_CORNERY_XY: 454171.75600 5413748.56400
SW_QUAD_CORNER_XY: 449588.96000 5413788.10500
SECONDARY_NW_QUAD_XY: 449650.17500 5420516.75100
SECONDARY_NE_QUAD_XY: 454227.40600 5420477.22100
SECONDARY_SE_QUAD_XY: 454170.28800 5413529.56400
SECONDARY_SW_QUAD_XY: 449587.34500 5413569.10700
RMSE_XY: 4.58000
IMAGE_SOURCE: BLACK AND WHITE FILM
SOURCE_IMAGE_ID: NAPP 9105-133
SOURCE_IMAGE_DATE: 1996 8 1
SOURCE_DEM_DATE: 1998 0 0
AGENCY: WESTERN MAPPING CENTER (WMC)
PRODUCER: WOOLPERT LLP
PRODUCTION_SYSTEM: INTERGRAPH ISPM, ISIR
COMPRESSION: UNDEFINED
STANDARD_VERSION: 1996 12
METADATA_DATE: 2001 9 17
DATA_FILE_SIZE: 40229784
BYTE_COUNT: 5292
