FILENAME: O4810503.SWS.1165647.tif
QUADRANGLE_NAME: FOUR BUTTES NW
QUADRANT: SW
WEST_LONGITUDE: -105 45 0.00000
EAST_LONGITUDE: -105 41 15.00000
NORTH_LATITUDE: 48 56 15.00000
SOUTH_LATITUDE: 48 52 30.00000
PRODUCTION_DATE: 2001 9 15
RASTER_ORDER: LEFT_RIGHT/TOP_BOTTOM
BAND_ORGANIZATION: SINGLE FILE
BAND_CONTENT: BLACK&WHITE
BAND_CONTENT: UNDEFINED
BAND_CONTENT: UNDEFINED
BITS_PER_PIXEL: 8
SAMPLES_AND_LINES: 5298 7605
HORIZONTAL_DATUM: NAD83
HORIZONTAL_COORDINATE_SYSTEM: UTM
COORDINATE_ZONE: 13
HORIZONTAL_UNITS: meters
HORIZONTAL_RESOLUTION: 1.00000
SECONDARY_HORIZONTAL_DATUM: NAD27
XY_ORIGIN: 444659.00000 5421088.00000
SECONDARY_XY_ORIGIN: 444698.54800 5420865.90000
NATION: US
STATE: MT
NW_QUAD_CORNER_XY: 445074.71400 5420779.04700
NE_QUAD_CORNER_XY: 449651.79000 5420735.75300
SE_QUAD_CORNERY_XY: 449588.96000 5413788.10500
SW_QUAD_CORNER_XY: 445006.17100 5413831.41300
SECONDARY_NW_QUAD_XY: 445072.95200 5420560.04700
SECONDARY_NE_QUAD_XY: 449650.17500 5420516.75100
SECONDARY_SE_QUAD_XY: 449587.34500 5413569.10700
SECONDARY_SW_QUAD_XY: 445004.40900 5413612.41500
RMSE_XY: 4.01000
IMAGE_SOURCE: BLACK AND WHITE FILM
SOURCE_IMAGE_ID: NAPP 9105-142
SOURCE_IMAGE_DATE: 1996 8 1
SOURCE_DEM_DATE: 1998 0 0
AGENCY: WESTERN MAPPING CENTER (WMC)
PRODUCER: WOOLPERT LLP
PRODUCTION_SYSTEM: INTERGRAPH ISPM, ISIR
COMPRESSION: UNDEFINED
STANDARD_VERSION: 1996 12
METADATA_DATE: 2001 9 17
DATA_FILE_SIZE: 40296588
BYTE_COUNT: 5298
