FILENAME: O4810502.SES.1165544.tif
QUADRANGLE_NAME: CARBERT
QUADRANT: SE
WEST_LONGITUDE: -105 48 45.00000
EAST_LONGITUDE: -105 45 0.00000
NORTH_LATITUDE: 48 56 15.00000
SOUTH_LATITUDE: 48 52 30.00000
PRODUCTION_DATE: 2001 9 15
RASTER_ORDER: LEFT_RIGHT/TOP_BOTTOM
BAND_ORGANIZATION: SINGLE FILE
BAND_CONTENT: BLACK&WHITE
BAND_CONTENT: UNDEFINED
BAND_CONTENT: UNDEFINED
BITS_PER_PIXEL: 8
SAMPLES_AND_LINES: 5304 7609
HORIZONTAL_DATUM: NAD83
HORIZONTAL_COORDINATE_SYSTEM: UTM
COORDINATE_ZONE: 13
HORIZONTAL_UNITS: meters
HORIZONTAL_RESOLUTION: 1.00000
SECONDARY_HORIZONTAL_DATUM: NAD27
XY_ORIGIN: 440076.00000 5421135.00000
SECONDARY_XY_ORIGIN: 440115.57500 5420912.82300
NATION: US
STATE: MT
NW_QUAD_CORNER_XY: 440497.64700 5420826.10700
NE_QUAD_CORNER_XY: 445074.71400 5420779.04700
SE_QUAD_CORNERY_XY: 445006.17100 5413831.41300
SW_QUAD_CORNER_XY: 440423.39200 5413878.48600
SECONDARY_NW_QUAD_XY: 440495.73800 5420607.10900
SECONDARY_NE_QUAD_XY: 445072.95200 5420560.04700
SECONDARY_SE_QUAD_XY: 445004.40900 5413612.41500
SECONDARY_SW_QUAD_XY: 440421.48300 5413659.49000
RMSE_XY: 3.66000
IMAGE_SOURCE: BLACK AND WHITE FILM
SOURCE_IMAGE_ID: NAPP 10763-026
SOURCE_IMAGE_DATE: 1997 9 20
SOURCE_DEM_DATE: 1998 0 0
AGENCY: WESTERN MAPPING CENTER (WMC)
PRODUCER: WOOLPERT LLP
PRODUCTION_SYSTEM: INTERGRAPH ISPM, ISIR
COMPRESSION: UNDEFINED
STANDARD_VERSION: 1996 12
METADATA_DATE: 2001 9 17
DATA_FILE_SIZE: 40363440
BYTE_COUNT: 5304
