FILENAME: O4810502.SWS.1165546.tif
QUADRANGLE_NAME: CARBERT
QUADRANT: SW
WEST_LONGITUDE: -105 52 30.00000
EAST_LONGITUDE: -105 48 45.00000
NORTH_LATITUDE: 48 56 15.00000
SOUTH_LATITUDE: 48 52 30.00000
PRODUCTION_DATE: 2001 9 15
RASTER_ORDER: LEFT_RIGHT/TOP_BOTTOM
BAND_ORGANIZATION: SINGLE FILE
BAND_CONTENT: BLACK&WHITE
BAND_CONTENT: UNDEFINED
BAND_CONTENT: UNDEFINED
BITS_PER_PIXEL: 8
SAMPLES_AND_LINES: 5310 7613
HORIZONTAL_DATUM: NAD83
HORIZONTAL_COORDINATE_SYSTEM: UTM
COORDINATE_ZONE: 13
HORIZONTAL_UNITS: meters
HORIZONTAL_RESOLUTION: 1.00000
SECONDARY_HORIZONTAL_DATUM: NAD27
XY_ORIGIN: 435493.00000 5421186.00000
SECONDARY_XY_ORIGIN: 435532.60300 5420963.74600
NATION: US
STATE: MT
NW_QUAD_CORNER_XY: 435920.58900 5420876.93200
NE_QUAD_CORNER_XY: 440497.64700 5420826.10700
SE_QUAD_CORNERY_XY: 440423.39200 5413878.48600
SW_QUAD_CORNER_XY: 435840.62200 5413929.32600
SECONDARY_NW_QUAD_XY: 435918.53400 5420657.93500
SECONDARY_NE_QUAD_XY: 440495.73800 5420607.10900
SECONDARY_SE_QUAD_XY: 440421.48300 5413659.49000
SECONDARY_SW_QUAD_XY: 435838.56600 5413710.33200
RMSE_XY: 3.72000
IMAGE_SOURCE: BLACK AND WHITE FILM
SOURCE_IMAGE_ID: NAPP 10763-035
SOURCE_IMAGE_DATE: 1997 9 20
SOURCE_DEM_DATE: 1998 0 0
AGENCY: WESTERN MAPPING CENTER (WMC)
PRODUCER: WOOLPERT LLP
PRODUCTION_SYSTEM: INTERGRAPH ISPM, ISIR
COMPRESSION: UNDEFINED
STANDARD_VERSION: 1996 12
METADATA_DATE: 2001 9 17
DATA_FILE_SIZE: 40430340
BYTE_COUNT: 5310
