FILENAME: O4810501.NWS.1165524.tif
QUADRANGLE_NAME: FLAHERTY COULEE
QUADRANT: NW
WEST_LONGITUDE: -106 0 0.00000
EAST_LONGITUDE: -105 56 15.00000
NORTH_LATITUDE: 49 0 0.00000
SOUTH_LATITUDE: 48 56 15.00000
PRODUCTION_DATE: 2001 9 15
RASTER_ORDER: LEFT_RIGHT/TOP_BOTTOM
BAND_ORGANIZATION: SINGLE FILE
BAND_CONTENT: BLACK&WHITE
BAND_CONTENT: UNDEFINED
BAND_CONTENT: UNDEFINED
BITS_PER_PIXEL: 8
SAMPLES_AND_LINES: 5316 7620
HORIZONTAL_DATUM: NAD83
HORIZONTAL_COORDINATE_SYSTEM: UTM
COORDINATE_ZONE: 13
HORIZONTAL_UNITS: meters
HORIZONTAL_RESOLUTION: 1.00000
SECONDARY_HORIZONTAL_DATUM: NAD27
XY_ORIGIN: 426419.00000 5428246.00000
SECONDARY_XY_ORIGIN: 426458.67500 5428023.62000
NATION: US
NATION: CA
STATE: MT
NW_QUAD_CORNER_XY: 426857.98800 5427937.52300
NE_QUAD_CORNER_XY: 431429.30500 5427879.18500
SE_QUAD_CORNERY_XY: 431343.54200 5420931.52200
SW_QUAD_CORNER_XY: 426766.50600 5420989.87800
SECONDARY_NW_QUAD_XY: 426855.63900 5427718.52900
SECONDARY_NE_QUAD_XY: 431427.10300 5427660.18900
SECONDARY_SE_QUAD_XY: 431341.34000 5420712.52700
SECONDARY_SW_QUAD_XY: 426764.15700 5420770.88500
RMSE_XY: 3.44000
IMAGE_SOURCE: BLACK AND WHITE FILM
SOURCE_IMAGE_ID: NAPP 9095-135
SOURCE_IMAGE_DATE: 1996 7 9
SOURCE_DEM_DATE: 1998 0 0
AGENCY: WESTERN MAPPING CENTER (WMC)
PRODUCER: WOOLPERT LLP
PRODUCTION_SYSTEM: INTERGRAPH ISPM, ISIR
COMPRESSION: UNDEFINED
STANDARD_VERSION: 1996 12
METADATA_DATE: 2001 9 17
DATA_FILE_SIZE: 40513236
BYTE_COUNT: 5316
