FILENAME: O4810501.SWS.1165526.tif
QUADRANGLE_NAME: FLAHERTY COULEE
QUADRANT: SW
WEST_LONGITUDE: -106 0 0.00000
EAST_LONGITUDE: -105 56 15.00000
NORTH_LATITUDE: 48 56 15.00000
SOUTH_LATITUDE: 48 52 30.00000
PRODUCTION_DATE: 2001 9 15
RASTER_ORDER: LEFT_RIGHT/TOP_BOTTOM
BAND_ORGANIZATION: SINGLE FILE
BAND_CONTENT: BLACK&WHITE
BAND_CONTENT: UNDEFINED
BAND_CONTENT: UNDEFINED
BITS_PER_PIXEL: 8
SAMPLES_AND_LINES: 5321 7621
HORIZONTAL_DATUM: NAD83
HORIZONTAL_COORDINATE_SYSTEM: UTM
COORDINATE_ZONE: 13
HORIZONTAL_UNITS: meters
HORIZONTAL_RESOLUTION: 1.00000
SECONDARY_HORIZONTAL_DATUM: NAD27
XY_ORIGIN: 426328.00000 5421299.00000
SECONDARY_XY_ORIGIN: 426367.65700 5421076.59700
NATION: US
STATE: MT
NW_QUAD_CORNER_XY: 426766.50600 5420989.87800
NE_QUAD_CORNER_XY: 431343.54200 5420931.52200
SE_QUAD_CORNERY_XY: 431257.86200 5413983.93300
SW_QUAD_CORNER_XY: 426675.11300 5414042.30500
SECONDARY_NW_QUAD_XY: 426764.15700 5420770.88500
SECONDARY_NE_QUAD_XY: 431341.34000 5420712.52700
SECONDARY_SE_QUAD_XY: 431255.65900 5413764.94000
SECONDARY_SW_QUAD_XY: 426672.76400 5413823.31500
RMSE_XY: 3.65000
IMAGE_SOURCE: BLACK AND WHITE FILM
SOURCE_IMAGE_ID: NAPP 9095-137
SOURCE_IMAGE_DATE: 1996 7 9
SOURCE_DEM_DATE: 1998 0 0
AGENCY: WESTERN MAPPING CENTER (WMC)
PRODUCER: WOOLPERT LLP
PRODUCTION_SYSTEM: INTERGRAPH ISPM, ISIR
COMPRESSION: UNDEFINED
STANDARD_VERSION: 1996 12
METADATA_DATE: 2001 9 17
DATA_FILE_SIZE: 40556662
BYTE_COUNT: 5321
