FILENAME: O4810663.NWS.1139220.tif
QUADRANGLE_NAME: KINTYRE
QUADRANT: NW
WEST_LONGITUDE: -106 15 0.00000
EAST_LONGITUDE: -106 11 15.00000
NORTH_LATITUDE: 48 7 30.00000
SOUTH_LATITUDE: 48 3 45.00000
PRODUCTION_DATE: 2001 3 30
RASTER_ORDER: LEFT_RIGHT/TOP_BOTTOM
BAND_ORGANIZATION: SINGLE FILE
BAND_CONTENT: BLACK&WHITE
BAND_CONTENT: UNDEFINED
BAND_CONTENT: UNDEFINED
BITS_PER_PIXEL: 8
SAMPLES_AND_LINES: 5418 7635
HORIZONTAL_DATUM: NAD83
HORIZONTAL_COORDINATE_SYSTEM: UTM
COORDINATE_ZONE: 13
HORIZONTAL_UNITS: meters
HORIZONTAL_RESOLUTION: 1.00000
SECONDARY_HORIZONTAL_DATUM: NAD27
XY_ORIGIN: 406520.00000 5331258.00000
SECONDARY_XY_ORIGIN: 406560.30200 5331036.22800
NATION: US
STATE: MT
NW_QUAD_CORNER_XY: 406981.88800 5330949.19000
NE_QUAD_CORNER_XY: 411632.72000 5330875.51600
SE_QUAD_CORNERY_XY: 411525.55400 5323928.94600
SW_QUAD_CORNER_XY: 406869.08000 5324002.63700
SECONDARY_NW_QUAD_XY: 406978.95300 5330730.30500
SECONDARY_NE_QUAD_XY: 411629.93200 5330656.62900
SECONDARY_SE_QUAD_XY: 411522.76600 5323710.07300
SECONDARY_SW_QUAD_XY: 406866.14600 5323783.76600
RMSE_XY: 1.78000
IMAGE_SOURCE: BLACK AND WHITE FILM
SOURCE_IMAGE_ID: NAPP 9122-114
SOURCE_IMAGE_DATE: 1996 9 11
SOURCE_DEM_DATE: 1999 0 0
AGENCY: WESTERN MAPPING CENTER (WMC)
PRODUCER: WOOLPERT LLP
PRODUCTION_SYSTEM: INTERGRAPH ISPM, ISIR
COMPRESSION: UNDEFINED
STANDARD_VERSION: 1996 12
METADATA_DATE: 2001 3 30
DATA_FILE_SIZE: 41371848
BYTE_COUNT: 5418
