FILENAME: O4810663.SES.1139221.tif
QUADRANGLE_NAME: KINTYRE
QUADRANT: SE
WEST_LONGITUDE: -106 11 15.00000
EAST_LONGITUDE: -106 7 30.00000
NORTH_LATITUDE: 48 3 45.00000
SOUTH_LATITUDE: 48 0 0.00000
PRODUCTION_DATE: 2001 3 30
RASTER_ORDER: LEFT_RIGHT/TOP_BOTTOM
BAND_ORGANIZATION: SINGLE FILE
BAND_CONTENT: BLACK&WHITE
BAND_CONTENT: UNDEFINED
BAND_CONTENT: UNDEFINED
BITS_PER_PIXEL: 8
SAMPLES_AND_LINES: 5418 7630
HORIZONTAL_DATUM: NAD83
HORIZONTAL_COORDINATE_SYSTEM: UTM
COORDINATE_ZONE: 13
HORIZONTAL_UNITS: meters
HORIZONTAL_RESOLUTION: 1.00000
SECONDARY_HORIZONTAL_DATUM: NAD27
XY_ORIGIN: 411070.00000 5324237.00000
SECONDARY_XY_ORIGIN: 411110.34700 5324015.44200
NATION: US
STATE: MT
NW_QUAD_CORNER_XY: 411525.55400 5323928.94600
NE_QUAD_CORNER_XY: 416182.03900 5323859.03500
SE_QUAD_CORNERY_XY: 416080.61500 5316912.52100
SW_QUAD_CORNER_XY: 411418.49400 5316982.44900
SECONDARY_NW_QUAD_XY: 411522.76600 5323710.07300
SECONDARY_NE_QUAD_XY: 416179.39800 5323640.15900
SECONDARY_SE_QUAD_XY: 416077.97400 5316693.66000
SECONDARY_SW_QUAD_XY: 411415.70700 5316763.58900
RMSE_XY: 2.15000
IMAGE_SOURCE: BLACK AND WHITE FILM
SOURCE_IMAGE_ID: NAPP 9122-123
SOURCE_IMAGE_DATE: 1996 9 11
SOURCE_DEM_DATE: 1999 0 0
AGENCY: WESTERN MAPPING CENTER (WMC)
PRODUCER: WOOLPERT LLP
PRODUCTION_SYSTEM: INTERGRAPH ISPM, ISIR
COMPRESSION: UNDEFINED
STANDARD_VERSION: 1996 12
METADATA_DATE: 2001 3 30
DATA_FILE_SIZE: 41344758
BYTE_COUNT: 5418
