FILENAME: O4810663.SWS.1139222.tif
QUADRANGLE_NAME: KINTYRE
QUADRANT: SW
WEST_LONGITUDE: -106 15 0.00000
EAST_LONGITUDE: -106 11 15.00000
NORTH_LATITUDE: 48 3 45.00000
SOUTH_LATITUDE: 48 0 0.00000
PRODUCTION_DATE: 2001 3 30
RASTER_ORDER: LEFT_RIGHT/TOP_BOTTOM
BAND_ORGANIZATION: SINGLE FILE
BAND_CONTENT: BLACK&WHITE
BAND_CONTENT: UNDEFINED
BAND_CONTENT: UNDEFINED
BITS_PER_PIXEL: 8
SAMPLES_AND_LINES: 5424 7634
HORIZONTAL_DATUM: NAD83
HORIZONTAL_COORDINATE_SYSTEM: UTM
COORDINATE_ZONE: 13
HORIZONTAL_UNITS: meters
HORIZONTAL_RESOLUTION: 1.00000
SECONDARY_HORIZONTAL_DATUM: NAD27
XY_ORIGIN: 406407.00000 5324311.00000
SECONDARY_XY_ORIGIN: 406447.38600 5324089.39600
NATION: US
STATE: MT
NW_QUAD_CORNER_XY: 406869.08000 5324002.63700
NE_QUAD_CORNER_XY: 411525.55400 5323928.94600
SE_QUAD_CORNERY_XY: 411418.49400 5316982.44900
SW_QUAD_CORNER_XY: 406756.38400 5317056.15600
SECONDARY_NW_QUAD_XY: 406866.14600 5323783.76600
SECONDARY_NE_QUAD_XY: 411522.76600 5323710.07300
SECONDARY_SE_QUAD_XY: 411415.70700 5316763.58900
SECONDARY_SW_QUAD_XY: 406753.45000 5316837.30000
RMSE_XY: 2.41000
IMAGE_SOURCE: BLACK AND WHITE FILM
SOURCE_IMAGE_ID: NAPP 9122-116
SOURCE_IMAGE_DATE: 1996 9 11
SOURCE_DEM_DATE: 1999 0 0
AGENCY: WESTERN MAPPING CENTER (WMC)
PRODUCER: WOOLPERT LLP
PRODUCTION_SYSTEM: INTERGRAPH ISPM, ISIR
COMPRESSION: UNDEFINED
STANDARD_VERSION: 1996 12
METADATA_DATE: 2001 3 30
DATA_FILE_SIZE: 41412240
BYTE_COUNT: 5424
