FILENAME: O4810662.NES.1137239.tif
QUADRANGLE_NAME: MILK RIVER HILLS
QUADRANT: NE
WEST_LONGITUDE: -106 18 45.00000
EAST_LONGITUDE: -106 15 0.00000
NORTH_LATITUDE: 48 7 30.00000
SOUTH_LATITUDE: 48 3 45.00000
PRODUCTION_DATE: 2001 3 23
RASTER_ORDER: LEFT_RIGHT/TOP_BOTTOM
BAND_ORGANIZATION: SINGLE FILE
BAND_CONTENT: BLACK&WHITE
BAND_CONTENT: UNDEFINED
BAND_CONTENT: UNDEFINED
BITS_PER_PIXEL: 8
SAMPLES_AND_LINES: 5423 7638
HORIZONTAL_DATUM: NAD83
HORIZONTAL_COORDINATE_SYSTEM: UTM
COORDINATE_ZONE: 13
HORIZONTAL_UNITS: meters
HORIZONTAL_RESOLUTION: 1.00000
SECONDARY_HORIZONTAL_DATUM: NAD27
XY_ORIGIN: 401864.00000 5331335.00000
SECONDARY_XY_ORIGIN: 401904.40300 5331113.17400
NATION: US
STATE: MT
NW_QUAD_CORNER_XY: 402331.06800 5331026.64300
NE_QUAD_CORNER_XY: 406981.88800 5330949.19000
SE_QUAD_CORNERY_XY: 406869.08000 5324002.63700
SW_QUAD_CORNER_XY: 402212.61800 5324080.10800
SECONDARY_NW_QUAD_XY: 402327.98600 5330807.76100
SECONDARY_NE_QUAD_XY: 406978.95300 5330730.30500
SECONDARY_SE_QUAD_XY: 406866.14600 5323783.76600
SECONDARY_SW_QUAD_XY: 402209.53700 5323861.23900
RMSE_XY: 2.35000
IMAGE_SOURCE: BLACK AND WHITE FILM
SOURCE_IMAGE_ID: NAPP 9122-057
SOURCE_IMAGE_DATE: 1996 9 11
SOURCE_DEM_DATE: 1999 0 0
AGENCY: WESTERN MAPPING CENTER (WMC)
PRODUCER: WOOLPERT LLP
PRODUCTION_SYSTEM: INTERGRAPH ISPM, ISIR
COMPRESSION: UNDEFINED
STANDARD_VERSION: 1996 12
METADATA_DATE: 2001 3 23
DATA_FILE_SIZE: 41426297
BYTE_COUNT: 5423
