FILENAME: O4810662.NWS.1137240.tif
QUADRANGLE_NAME: MILK RIVER HILLS
QUADRANT: NW
WEST_LONGITUDE: -106 22 30.00000
EAST_LONGITUDE: -106 18 45.00000
NORTH_LATITUDE: 48 7 30.00000
SOUTH_LATITUDE: 48 3 45.00000
PRODUCTION_DATE: 2001 3 23
RASTER_ORDER: LEFT_RIGHT/TOP_BOTTOM
BAND_ORGANIZATION: SINGLE FILE
BAND_CONTENT: BLACK&WHITE
BAND_CONTENT: UNDEFINED
BAND_CONTENT: UNDEFINED
BITS_PER_PIXEL: 8
SAMPLES_AND_LINES: 5430 7641
HORIZONTAL_DATUM: NAD83
HORIZONTAL_COORDINATE_SYSTEM: UTM
COORDINATE_ZONE: 13
HORIZONTAL_UNITS: meters
HORIZONTAL_RESOLUTION: 1.00000
SECONDARY_HORIZONTAL_DATUM: NAD27
XY_ORIGIN: 397207.00000 5331416.00000
SECONDARY_XY_ORIGIN: 397247.50500 5331194.12000
NATION: US
STATE: MT
NW_QUAD_CORNER_XY: 397680.26000 5331107.87600
NE_QUAD_CORNER_XY: 402331.06800 5331026.64300
SE_QUAD_CORNERY_XY: 402212.61800 5324080.10800
SW_QUAD_CORNER_XY: 397556.16800 5324161.36000
SECONDARY_NW_QUAD_XY: 397677.03200 5330888.99600
SECONDARY_NE_QUAD_XY: 402327.98600 5330807.76100
SECONDARY_SE_QUAD_XY: 402209.53700 5323861.23900
SECONDARY_SW_QUAD_XY: 397552.94000 5323942.49300
RMSE_XY: 1.88000
IMAGE_SOURCE: BLACK AND WHITE FILM
SOURCE_IMAGE_ID: NAPP 9109-248
SOURCE_IMAGE_DATE: 1996 8 11
SOURCE_DEM_DATE: 1999 0 0
AGENCY: WESTERN MAPPING CENTER (WMC)
PRODUCER: WOOLPERT LLP
PRODUCTION_SYSTEM: INTERGRAPH ISPM, ISIR
COMPRESSION: UNDEFINED
STANDARD_VERSION: 1996 12
METADATA_DATE: 2001 3 23
DATA_FILE_SIZE: 41496060
BYTE_COUNT: 5430
