FILENAME: O4810661.NES.1137231.tif
QUADRANGLE_NAME: FORT PECK
QUADRANT: NE
WEST_LONGITUDE: -106 26 15.00000
EAST_LONGITUDE: -106 22 30.00000
NORTH_LATITUDE: 48 7 30.00000
SOUTH_LATITUDE: 48 3 45.00000
PRODUCTION_DATE: 2001 3 23
RASTER_ORDER: LEFT_RIGHT/TOP_BOTTOM
BAND_ORGANIZATION: SINGLE FILE
BAND_CONTENT: BLACK&WHITE
BAND_CONTENT: UNDEFINED
BAND_CONTENT: UNDEFINED
BITS_PER_PIXEL: 8
SAMPLES_AND_LINES: 5436 7645
HORIZONTAL_DATUM: NAD83
HORIZONTAL_COORDINATE_SYSTEM: UTM
COORDINATE_ZONE: 13
HORIZONTAL_UNITS: meters
HORIZONTAL_RESOLUTION: 1.00000
SECONDARY_HORIZONTAL_DATUM: NAD27
XY_ORIGIN: 392550.00000 5331501.00000
SECONDARY_XY_ORIGIN: 392590.60600 5331279.06500
NATION: US
STATE: MT
NW_QUAD_CORNER_XY: 393029.46600 5331192.88700
NE_QUAD_CORNER_XY: 397680.26000 5331107.87600
SE_QUAD_CORNERY_XY: 397556.16800 5324161.36000
SW_QUAD_CORNER_XY: 392899.73200 5324246.39100
SECONDARY_NW_QUAD_XY: 393026.09100 5330974.01000
SECONDARY_NE_QUAD_XY: 397677.03200 5330888.99600
SECONDARY_SE_QUAD_XY: 397552.94000 5323942.49300
SECONDARY_SW_QUAD_XY: 392896.35700 5324027.52800
RMSE_XY: 1.57000
IMAGE_SOURCE: BLACK AND WHITE FILM
SOURCE_IMAGE_ID: NAPP 9109-187
SOURCE_IMAGE_DATE: 1996 8 11
SOURCE_DEM_DATE: 1999 0 0
AGENCY: WESTERN MAPPING CENTER (WMC)
PRODUCER: WOOLPERT LLP
PRODUCTION_SYSTEM: INTERGRAPH ISPM, ISIR
COMPRESSION: UNDEFINED
STANDARD_VERSION: 1996 12
METADATA_DATE: 2001 3 23
DATA_FILE_SIZE: 41563656
BYTE_COUNT: 5436
