FILENAME: O4810661.SWS.1137234.tif
QUADRANGLE_NAME: FORT PECK
QUADRANT: SW
WEST_LONGITUDE: -106 30 0.00000
EAST_LONGITUDE: -106 26 15.00000
NORTH_LATITUDE: 48 3 45.00000
SOUTH_LATITUDE: 48 0 0.00000
PRODUCTION_DATE: 2001 3 23
RASTER_ORDER: LEFT_RIGHT/TOP_BOTTOM
BAND_ORGANIZATION: SINGLE FILE
BAND_CONTENT: BLACK&WHITE
BAND_CONTENT: UNDEFINED
BAND_CONTENT: UNDEFINED
BITS_PER_PIXEL: 8
SAMPLES_AND_LINES: 5447 7650
HORIZONTAL_DATUM: NAD83
HORIZONTAL_COORDINATE_SYSTEM: UTM
COORDINATE_ZONE: 13
HORIZONTAL_UNITS: meters
HORIZONTAL_RESOLUTION: 1.00000
SECONDARY_HORIZONTAL_DATUM: NAD27
XY_ORIGIN: 387758.00000 5324644.00000
SECONDARY_XY_ORIGIN: 387798.82100 5324422.16900
NATION: US
STATE: MT
NW_QUAD_CORNER_XY: 388243.30800 5324335.20300
NE_QUAD_CORNER_XY: 392899.73200 5324246.39100
SE_QUAD_CORNERY_XY: 392770.12600 5317299.96600
SW_QUAD_CORNER_XY: 388108.06500 5317388.79900
SECONDARY_NW_QUAD_XY: 388239.78700 5324116.34300
SECONDARY_NE_QUAD_XY: 392896.35700 5324027.52800
SECONDARY_SE_QUAD_XY: 392766.75100 5317081.11700
SECONDARY_SW_QUAD_XY: 388104.54400 5317169.95200
RMSE_XY: 1.71000
IMAGE_SOURCE: BLACK AND WHITE FILM
SOURCE_IMAGE_ID: NAPP 9109-126
SOURCE_IMAGE_DATE: 1996 8 11
SOURCE_DEM_DATE: 1999 0 0
AGENCY: WESTERN MAPPING CENTER (WMC)
PRODUCER: WOOLPERT LLP
PRODUCTION_SYSTEM: INTERGRAPH ISPM, ISIR
COMPRESSION: UNDEFINED
STANDARD_VERSION: 1996 12
METADATA_DATE: 2001 3 23
DATA_FILE_SIZE: 41674997
BYTE_COUNT: 5447
