FILENAME: O4810659.SES.1137217.tif
QUADRANGLE_NAME: BLANCHARD RANCH
QUADRANT: SE
WEST_LONGITUDE: -106 41 15.00000
EAST_LONGITUDE: -106 37 30.00000
NORTH_LATITUDE: 48 3 45.00000
SOUTH_LATITUDE: 48 0 0.00000
PRODUCTION_DATE: 2001 3 23
RASTER_ORDER: LEFT_RIGHT/TOP_BOTTOM
BAND_ORGANIZATION: SINGLE FILE
BAND_CONTENT: BLACK&WHITE
BAND_CONTENT: UNDEFINED
BAND_CONTENT: UNDEFINED
BITS_PER_PIXEL: 8
SAMPLES_AND_LINES: 5465 7661
HORIZONTAL_DATUM: NAD83
HORIZONTAL_COORDINATE_SYSTEM: UTM
COORDINATE_ZONE: 13
HORIZONTAL_UNITS: meters
HORIZONTAL_RESOLUTION: 1.00000
SECONDARY_HORIZONTAL_DATUM: NAD27
XY_ORIGIN: 373771.00000 5324933.00000
SECONDARY_XY_ORIGIN: 373812.17700 5324711.30700
NATION: US
STATE: MT
NW_QUAD_CORNER_XY: 374274.12400 5324624.32500
NE_QUAD_CORNER_XY: 378930.50400 5324524.17000
SE_QUAD_CORNERY_XY: 378783.98600 5317577.80900
SW_QUAD_CORNER_XY: 374121.96800 5317677.98700
SECONDARY_NW_QUAD_XY: 374270.16300 5324405.47400
SECONDARY_NE_QUAD_XY: 378926.68900 5324305.31600
SECONDARY_SE_QUAD_XY: 378780.17100 5317358.96800
SECONDARY_SW_QUAD_XY: 374118.00700 5317459.15000
RMSE_XY: 2.22000
IMAGE_SOURCE: BLACK AND WHITE FILM
SOURCE_IMAGE_ID: NAPP 9111-125
SOURCE_IMAGE_DATE: 1996 8 11
SOURCE_DEM_DATE: 1995 0 0
AGENCY: WESTERN MAPPING CENTER (WMC)
PRODUCER: WOOLPERT LLP
PRODUCTION_SYSTEM: INTERGRAPH ISPM, ISIR
COMPRESSION: UNDEFINED
STANDARD_VERSION: 1996 12
METADATA_DATE: 2001 3 23
DATA_FILE_SIZE: 41872830
BYTE_COUNT: 5465
