FILENAME: O4810658.NWS.1137204.tif
QUADRANGLE_NAME: MILLER COULEE EAST
QUADRANT: NW
WEST_LONGITUDE: -106 52 30.00000
EAST_LONGITUDE: -106 48 45.00000
NORTH_LATITUDE: 48 7 30.00000
SOUTH_LATITUDE: 48 3 45.00000
PRODUCTION_DATE: 2001 3 21
RASTER_ORDER: LEFT_RIGHT/TOP_BOTTOM
BAND_ORGANIZATION: SINGLE FILE
BAND_CONTENT: BLACK&WHITE
BAND_CONTENT: UNDEFINED
BAND_CONTENT: UNDEFINED
BITS_PER_PIXEL: 8
SAMPLES_AND_LINES: 5477 7672
HORIZONTAL_DATUM: NAD83
HORIZONTAL_COORDINATE_SYSTEM: UTM
COORDINATE_ZONE: 13
HORIZONTAL_UNITS: meters
HORIZONTAL_RESOLUTION: 1.00000
SECONDARY_HORIZONTAL_DATUM: NAD27
XY_ORIGIN: 359954.00000 5332202.00000
SECONDARY_XY_ORIGIN: 359995.49200 5331980.53900
NATION: US
STATE: MT
NW_QUAD_CORNER_XY: 360474.32300 5331893.81100
NE_QUAD_CORNER_XY: 365125.00900 5331782.33800
SE_QUAD_CORNERY_XY: 364961.41400 5324835.98000
SW_QUAD_CORNER_XY: 360305.08300 5324947.47900
SECONDARY_NW_QUAD_XY: 360469.92100 5331674.95600
SECONDARY_NE_QUAD_XY: 365120.75300 5331563.47900
SECONDARY_SE_QUAD_XY: 364957.15800 5324617.13500
SECONDARY_SW_QUAD_XY: 360300.68100 5324728.63800
RMSE_XY: 2.42000
IMAGE_SOURCE: BLACK AND WHITE FILM
SOURCE_IMAGE_ID: NAPP 9085-027
SOURCE_IMAGE_DATE: 1996 6 13
SOURCE_DEM_DATE: 1995 0 0
AGENCY: WESTERN MAPPING CENTER (WMC)
PRODUCER: WOOLPERT LLP
PRODUCTION_SYSTEM: INTERGRAPH ISPM, ISIR
COMPRESSION: UNDEFINED
STANDARD_VERSION: 1996 12
METADATA_DATE: 2001 3 21
DATA_FILE_SIZE: 42025021
BYTE_COUNT: 5477
