FILENAME: O4810658.SES.1137205.tif
QUADRANGLE_NAME: MILLER COULEE EAST
QUADRANT: SE
WEST_LONGITUDE: -106 48 45.00000
EAST_LONGITUDE: -106 45 0.00000
NORTH_LATITUDE: 48 3 45.00000
SOUTH_LATITUDE: 48 0 0.00000
PRODUCTION_DATE: 2001 3 21
RASTER_ORDER: LEFT_RIGHT/TOP_BOTTOM
BAND_ORGANIZATION: SINGLE FILE
BAND_CONTENT: BLACK&WHITE
BAND_CONTENT: UNDEFINED
BAND_CONTENT: UNDEFINED
BITS_PER_PIXEL: 8
SAMPLES_AND_LINES: 5476 7668
HORIZONTAL_DATUM: NAD83
HORIZONTAL_COORDINATE_SYSTEM: UTM
COORDINATE_ZONE: 13
HORIZONTAL_UNITS: meters
HORIZONTAL_RESOLUTION: 1.00000
SECONDARY_HORIZONTAL_DATUM: NAD27
XY_ORIGIN: 364447.00000 5325144.00000
SECONDARY_XY_ORIGIN: 364488.45600 5324922.47700
NATION: US
STATE: MT
NW_QUAD_CORNER_XY: 364961.41400 5324835.98000
NE_QUAD_CORNER_XY: 369617.76100 5324728.26200
SE_QUAD_CORNERY_XY: 369459.96600 5317781.94700
SW_QUAD_CORNER_XY: 364797.98000 5317889.69000
SECONDARY_NW_QUAD_XY: 364957.15800 5324617.13500
SECONDARY_NE_QUAD_XY: 369613.65200 5324509.41300
SECONDARY_SE_QUAD_XY: 369455.85800 5317563.11300
SECONDARY_SW_QUAD_XY: 364793.72500 5317670.85900
RMSE_XY: 2.33000
IMAGE_SOURCE: BLACK AND WHITE FILM
SOURCE_IMAGE_ID: NAPP 9109-061
SOURCE_IMAGE_DATE: 1996 8 11
SOURCE_DEM_DATE: 1995 0 0
AGENCY: WESTERN MAPPING CENTER (WMC)
PRODUCER: WOOLPERT LLP
PRODUCTION_SYSTEM: INTERGRAPH ISPM, ISIR
COMPRESSION: UNDEFINED
STANDARD_VERSION: 1996 12
METADATA_DATE: 2001 3 21
DATA_FILE_SIZE: 41995444
BYTE_COUNT: 5476
