FILENAME: O4810658.SWS.1137206.tif
QUADRANGLE_NAME: MILLER COULEE EAST
QUADRANT: SW
WEST_LONGITUDE: -106 52 30.00000
EAST_LONGITUDE: -106 48 45.00000
NORTH_LATITUDE: 48 3 45.00000
SOUTH_LATITUDE: 48 0 0.00000
PRODUCTION_DATE: 2001 3 21
RASTER_ORDER: LEFT_RIGHT/TOP_BOTTOM
BAND_ORGANIZATION: SINGLE FILE
BAND_CONTENT: BLACK&WHITE
BAND_CONTENT: UNDEFINED
BAND_CONTENT: UNDEFINED
BITS_PER_PIXEL: 8
SAMPLES_AND_LINES: 5483 7672
HORIZONTAL_DATUM: NAD83
HORIZONTAL_COORDINATE_SYSTEM: UTM
COORDINATE_ZONE: 13
HORIZONTAL_UNITS: meters
HORIZONTAL_RESOLUTION: 1.00000
SECONDARY_HORIZONTAL_DATUM: NAD27
XY_ORIGIN: 359784.00000 5325256.00000
SECONDARY_XY_ORIGIN: 359825.61300 5325034.59400
NATION: US
STATE: MT
NW_QUAD_CORNER_XY: 360305.08300 5324947.47900
NE_QUAD_CORNER_XY: 364961.41400 5324835.98000
SE_QUAD_CORNERY_XY: 364797.98000 5317889.69000
SW_QUAD_CORNER_XY: 360136.01100 5318001.21500
SECONDARY_NW_QUAD_XY: 360300.68100 5324728.63800
SECONDARY_NE_QUAD_XY: 364957.15800 5324617.13500
SECONDARY_SE_QUAD_XY: 364793.72500 5317670.85900
SECONDARY_SW_QUAD_XY: 360131.60900 5317782.38800
RMSE_XY: 2.37000
IMAGE_SOURCE: BLACK AND WHITE FILM
SOURCE_IMAGE_ID: NAPP 9085-025
SOURCE_IMAGE_DATE: 1996 6 13
SOURCE_DEM_DATE: 1995 0 0
AGENCY: WESTERN MAPPING CENTER (WMC)
PRODUCER: WOOLPERT LLP
PRODUCTION_SYSTEM: INTERGRAPH ISPM, ISIR
COMPRESSION: UNDEFINED
STANDARD_VERSION: 1996 12
METADATA_DATE: 2001 3 21
DATA_FILE_SIZE: 42071059
BYTE_COUNT: 5483
