FILENAME: O4810657.NWS.1137172.tif
QUADRANGLE_NAME: MILLER COULEE WEST
QUADRANT: NW
WEST_LONGITUDE: -107 0 0.00000
EAST_LONGITUDE: -106 56 15.00000
NORTH_LATITUDE: 48 7 30.00000
SOUTH_LATITUDE: 48 3 45.00000
PRODUCTION_DATE: 2001 3 1
RASTER_ORDER: LEFT_RIGHT/TOP_BOTTOM
BAND_ORGANIZATION: SINGLE FILE
BAND_CONTENT: BLACK&WHITE
BAND_CONTENT: UNDEFINED
BAND_CONTENT: UNDEFINED
BITS_PER_PIXEL: 8
SAMPLES_AND_LINES: 5489 7679
HORIZONTAL_DATUM: NAD83
HORIZONTAL_COORDINATE_SYSTEM: UTM
COORDINATE_ZONE: 13
HORIZONTAL_UNITS: meters
HORIZONTAL_RESOLUTION: 1.00000
SECONDARY_HORIZONTAL_DATUM: NAD27
XY_ORIGIN: 350640.00000 5332436.00000
SECONDARY_XY_ORIGIN: 350681.81300 5332214.80800
NATION: US
STATE: MT
NW_QUAD_CORNER_XY: 351173.00600 5332128.10200
NE_QUAD_CORNER_XY: 355823.65500 5332009.06600
SE_QUAD_CORNERY_XY: 355648.77100 5325062.76100
SW_QUAD_CORNER_XY: 350992.47600 5325181.82400
SECONDARY_NW_QUAD_XY: 351168.31000 5331909.25400
SECONDARY_NE_QUAD_XY: 355819.10600 5331790.21500
SECONDARY_SE_QUAD_XY: 355644.22200 5324843.92300
SECONDARY_SW_QUAD_XY: 350987.78100 5324962.99000
RMSE_XY: 2.16000
IMAGE_SOURCE: BLACK AND WHITE FILM
SOURCE_IMAGE_ID: NAPP 9101-033
SOURCE_IMAGE_DATE: 1996 7 15
SOURCE_DEM_DATE: 1995 0 0
AGENCY: WESTERN MAPPING CENTER (WMC)
PRODUCER: WOOLPERT LLP
PRODUCTION_SYSTEM: INTERGRAPH ISPM, ISIR
COMPRESSION: UNDEFINED
STANDARD_VERSION: 1996 12
METADATA_DATE: 2001 3 1
DATA_FILE_SIZE: 42155520
BYTE_COUNT: 5489
