FILENAME: O4810657.SWS.1137174.tif
QUADRANGLE_NAME: MILLER COULEE WEST
QUADRANT: SW
WEST_LONGITUDE: -107 0 0.00000
EAST_LONGITUDE: -106 56 15.00000
NORTH_LATITUDE: 48 3 45.00000
SOUTH_LATITUDE: 48 0 0.00000
PRODUCTION_DATE: 2001 3 1
RASTER_ORDER: LEFT_RIGHT/TOP_BOTTOM
BAND_ORGANIZATION: SINGLE FILE
BAND_CONTENT: BLACK&WHITE
BAND_CONTENT: UNDEFINED
BAND_CONTENT: UNDEFINED
BITS_PER_PIXEL: 8
SAMPLES_AND_LINES: 5494 7679
HORIZONTAL_DATUM: NAD83
HORIZONTAL_COORDINATE_SYSTEM: UTM
COORDINATE_ZONE: 13
HORIZONTAL_UNITS: meters
HORIZONTAL_RESOLUTION: 1.00000
SECONDARY_HORIZONTAL_DATUM: NAD27
XY_ORIGIN: 350460.00000 5325490.00000
SECONDARY_XY_ORIGIN: 350501.93300 5325268.82900
NATION: US
STATE: MT
NW_QUAD_CORNER_XY: 350992.47600 5325181.82400
NE_QUAD_CORNER_XY: 355648.77100 5325062.76100
SE_QUAD_CORNERY_XY: 355474.05900 5318116.52300
SW_QUAD_CORNER_XY: 350812.12500 5318235.61400
SECONDARY_NW_QUAD_XY: 350987.78100 5324962.99000
SECONDARY_NE_QUAD_XY: 355644.22200 5324843.92300
SECONDARY_SE_QUAD_XY: 355469.51100 5317897.69900
SECONDARY_SW_QUAD_XY: 350807.43000 5318016.79400
RMSE_XY: 1.86000
IMAGE_SOURCE: BLACK AND WHITE FILM
SOURCE_IMAGE_ID: NAPP 9101-031
SOURCE_IMAGE_DATE: 1996 7 15
SOURCE_DEM_DATE: 1995 0 0
AGENCY: WESTERN MAPPING CENTER (WMC)
PRODUCER: WOOLPERT LLP
PRODUCTION_SYSTEM: INTERGRAPH ISPM, ISIR
COMPRESSION: UNDEFINED
STANDARD_VERSION: 1996 12
METADATA_DATE: 2001 3 1
DATA_FILE_SIZE: 42193920
BYTE_COUNT: 5494
