FILENAME: O4810656.NES.1139223.tif
QUADRANGLE_NAME: DUBBE RESERVOIR
QUADRANT: NE
WEST_LONGITUDE: -106 3 45.00000
EAST_LONGITUDE: -106 0 0.00000
NORTH_LATITUDE: 48 15 0.00000
SOUTH_LATITUDE: 48 11 15.00000
PRODUCTION_DATE: 2001 3 30
RASTER_ORDER: LEFT_RIGHT/TOP_BOTTOM
BAND_ORGANIZATION: SINGLE FILE
BAND_CONTENT: BLACK&WHITE
BAND_CONTENT: UNDEFINED
BAND_CONTENT: UNDEFINED
BITS_PER_PIXEL: 8
SAMPLES_AND_LINES: 5390 7623
HORIZONTAL_DATUM: NAD83
HORIZONTAL_COORDINATE_SYSTEM: UTM
COORDINATE_ZONE: 13
HORIZONTAL_UNITS: meters
HORIZONTAL_RESOLUTION: 1.00000
SECONDARY_HORIZONTAL_DATUM: NAD27
XY_ORIGIN: 420682.00000 5344941.00000
SECONDARY_XY_ORIGIN: 420722.05600 5344719.09600
NATION: US
STATE: MT
NW_QUAD_CORNER_XY: 421126.46700 5344632.93000
NE_QUAD_CORNER_XY: 425766.03300 5344570.62300
SE_QUAD_CORNERY_XY: 425675.61200 5337623.85900
SW_QUAD_CORNER_XY: 421030.39500 5337686.18100
SECONDARY_NW_QUAD_XY: 421123.97200 5344414.01400
SECONDARY_NE_QUAD_XY: 425763.68400 5344351.70500
SECONDARY_SE_QUAD_XY: 425673.26400 5337404.95300
SECONDARY_SW_QUAD_XY: 421027.90000 5337467.27700
RMSE_XY: 1.62000
IMAGE_SOURCE: BLACK AND WHITE FILM
SOURCE_IMAGE_ID: NAPP 9122-150
SOURCE_IMAGE_DATE: 1996 9 11
SOURCE_DEM_DATE: 1998 0 0
AGENCY: WESTERN MAPPING CENTER (WMC)
PRODUCER: WOOLPERT LLP
PRODUCTION_SYSTEM: INTERGRAPH ISPM, ISIR
COMPRESSION: UNDEFINED
STANDARD_VERSION: 1996 12
METADATA_DATE: 2001 3 30
DATA_FILE_SIZE: 41093360
BYTE_COUNT: 5390
