FILENAME: O4810656.NWS.1139224.tif
QUADRANGLE_NAME: DUBBE RESERVOIR
QUADRANT: NW
WEST_LONGITUDE: -106 7 30.00000
EAST_LONGITUDE: -106 3 45.00000
NORTH_LATITUDE: 48 15 0.00000
SOUTH_LATITUDE: 48 11 15.00000
PRODUCTION_DATE: 2001 3 30
RASTER_ORDER: LEFT_RIGHT/TOP_BOTTOM
BAND_ORGANIZATION: SINGLE FILE
BAND_CONTENT: BLACK&WHITE
BAND_CONTENT: UNDEFINED
BAND_CONTENT: UNDEFINED
BITS_PER_PIXEL: 8
SAMPLES_AND_LINES: 5395 7627
HORIZONTAL_DATUM: NAD83
HORIZONTAL_COORDINATE_SYSTEM: UTM
COORDINATE_ZONE: 13
HORIZONTAL_UNITS: meters
HORIZONTAL_RESOLUTION: 1.00000
SECONDARY_HORIZONTAL_DATUM: NAD27
XY_ORIGIN: 416037.00000 5345008.00000
SECONDARY_XY_ORIGIN: 416077.08000 5344786.02900
NATION: US
STATE: MT
NW_QUAD_CORNER_XY: 416486.91300 5344699.01400
NE_QUAD_CORNER_XY: 421126.46700 5344632.93000
SE_QUAD_CORNERY_XY: 421030.39500 5337686.18100
SW_QUAD_CORNER_XY: 416385.18800 5337752.28100
SECONDARY_NW_QUAD_XY: 416484.27100 5344480.10000
SECONDARY_NE_QUAD_XY: 421123.97200 5344414.01400
SECONDARY_SE_QUAD_XY: 421027.90000 5337467.27700
SECONDARY_SW_QUAD_XY: 416382.54600 5337533.37900
RMSE_XY: 1.77000
IMAGE_SOURCE: BLACK AND WHITE FILM
SOURCE_IMAGE_ID: NAPP 9095-179
SOURCE_IMAGE_DATE: 1996 7 9
SOURCE_DEM_DATE: 1998 0 0
AGENCY: WESTERN MAPPING CENTER (WMC)
PRODUCER: WOOLPERT LLP
PRODUCTION_SYSTEM: INTERGRAPH ISPM, ISIR
COMPRESSION: UNDEFINED
STANDARD_VERSION: 1996 12
METADATA_DATE: 2001 3 30
DATA_FILE_SIZE: 41153060
BYTE_COUNT: 5395
