FILENAME: O4810656.SES.1139225.tif
QUADRANGLE_NAME: DUBBE RESERVOIR
QUADRANT: SE
WEST_LONGITUDE: -106 3 45.00000
EAST_LONGITUDE: -106 0 0.00000
NORTH_LATITUDE: 48 11 15.00000
SOUTH_LATITUDE: 48 7 30.00000
PRODUCTION_DATE: 2001 3 30
RASTER_ORDER: LEFT_RIGHT/TOP_BOTTOM
BAND_ORGANIZATION: SINGLE FILE
BAND_CONTENT: BLACK&WHITE
BAND_CONTENT: UNDEFINED
BAND_CONTENT: UNDEFINED
BITS_PER_PIXEL: 8
SAMPLES_AND_LINES: 5395 7623
HORIZONTAL_DATUM: NAD83
HORIZONTAL_COORDINATE_SYSTEM: UTM
COORDINATE_ZONE: 13
HORIZONTAL_UNITS: meters
HORIZONTAL_RESOLUTION: 1.00000
SECONDARY_HORIZONTAL_DATUM: NAD27
XY_ORIGIN: 420586.00000 5337995.00000
SECONDARY_XY_ORIGIN: 420626.13100 5337773.23900
NATION: US
STATE: MT
NW_QUAD_CORNER_XY: 421030.39500 5337686.18100
NE_QUAD_CORNER_XY: 425675.61200 5337623.85900
SE_QUAD_CORNERY_XY: 425585.28200 5330677.16900
SW_QUAD_CORNER_XY: 420934.41700 5330739.50600
SECONDARY_NW_QUAD_XY: 421027.90000 5337467.27700
SECONDARY_NE_QUAD_XY: 425673.26400 5337404.95300
SECONDARY_SE_QUAD_XY: 425582.93400 5330458.27500
SECONDARY_SW_QUAD_XY: 420931.92300 5330520.61400
RMSE_XY: 1.86000
IMAGE_SOURCE: BLACK AND WHITE FILM
SOURCE_IMAGE_ID: NAPP 9122-152
SOURCE_IMAGE_DATE: 1996 9 11
SOURCE_DEM_DATE: 1998 0 0
AGENCY: WESTERN MAPPING CENTER (WMC)
PRODUCER: WOOLPERT LLP
PRODUCTION_SYSTEM: INTERGRAPH ISPM, ISIR
COMPRESSION: UNDEFINED
STANDARD_VERSION: 1996 12
METADATA_DATE: 2001 3 30
DATA_FILE_SIZE: 41131480
BYTE_COUNT: 5395
