FILENAME: O4810656.SWS.1139226.tif
QUADRANGLE_NAME: DUBBE RESERVOIR
QUADRANT: SW
WEST_LONGITUDE: -106 7 30.00000
EAST_LONGITUDE: -106 3 45.00000
NORTH_LATITUDE: 48 11 15.00000
SOUTH_LATITUDE: 48 7 30.00000
PRODUCTION_DATE: 2001 3 30
RASTER_ORDER: LEFT_RIGHT/TOP_BOTTOM
BAND_ORGANIZATION: SINGLE FILE
BAND_CONTENT: BLACK&WHITE
BAND_CONTENT: UNDEFINED
BAND_CONTENT: UNDEFINED
BITS_PER_PIXEL: 8
SAMPLES_AND_LINES: 5401 7627
HORIZONTAL_DATUM: NAD83
HORIZONTAL_COORDINATE_SYSTEM: UTM
COORDINATE_ZONE: 13
HORIZONTAL_UNITS: meters
HORIZONTAL_RESOLUTION: 1.00000
SECONDARY_HORIZONTAL_DATUM: NAD27
XY_ORIGIN: 415935.00000 5338061.00000
SECONDARY_XY_ORIGIN: 415975.15800 5337839.18000
NATION: US
STATE: MT
NW_QUAD_CORNER_XY: 416385.18800 5337752.28100
NE_QUAD_CORNER_XY: 421030.39500 5337686.18100
SE_QUAD_CORNERY_XY: 420934.41700 5330739.50600
SW_QUAD_CORNER_XY: 416283.56300 5330805.62200
SECONDARY_NW_QUAD_XY: 416382.54600 5337533.37900
SECONDARY_NE_QUAD_XY: 421027.90000 5337467.27700
SECONDARY_SE_QUAD_XY: 420931.92300 5330520.61400
SECONDARY_SW_QUAD_XY: 416280.92200 5330586.73200
RMSE_XY: 1.36000
IMAGE_SOURCE: BLACK AND WHITE FILM
SOURCE_IMAGE_ID: NAPP 9095-181
SOURCE_IMAGE_DATE: 1996 7 9
SOURCE_DEM_DATE: 1998 0 0
AGENCY: WESTERN MAPPING CENTER (WMC)
PRODUCER: WOOLPERT LLP
PRODUCTION_SYSTEM: INTERGRAPH ISPM, ISIR
COMPRESSION: UNDEFINED
STANDARD_VERSION: 1996 12
METADATA_DATE: 2001 3 30
DATA_FILE_SIZE: 41198828
BYTE_COUNT: 5401
