FILENAME: O4810655.NWS.1139216.tif
QUADRANGLE_NAME: MILK RIVER COULEE
QUADRANT: NW
WEST_LONGITUDE: -106 15 0.00000
EAST_LONGITUDE: -106 11 15.00000
NORTH_LATITUDE: 48 15 0.00000
SOUTH_LATITUDE: 48 11 15.00000
PRODUCTION_DATE: 2001 3 30
RASTER_ORDER: LEFT_RIGHT/TOP_BOTTOM
BAND_ORGANIZATION: SINGLE FILE
BAND_CONTENT: BLACK&WHITE
BAND_CONTENT: UNDEFINED
BAND_CONTENT: UNDEFINED
BITS_PER_PIXEL: 8
SAMPLES_AND_LINES: 5407 7634
HORIZONTAL_DATUM: NAD83
HORIZONTAL_COORDINATE_SYSTEM: UTM
COORDINATE_ZONE: 13
HORIZONTAL_UNITS: meters
HORIZONTAL_RESOLUTION: 1.00000
SECONDARY_HORIZONTAL_DATUM: NAD27
XY_ORIGIN: 406746.00000 5345151.00000
SECONDARY_XY_ORIGIN: 406786.13400 5344928.89800
NATION: US
STATE: MT
NW_QUAD_CORNER_XY: 407207.83700 5344842.51400
NE_QUAD_CORNER_XY: 411847.36900 5344768.87500
SE_QUAD_CORNERY_XY: 411739.99200 5337822.16000
SW_QUAD_CORNER_XY: 407094.80700 5337895.81600
SECONDARY_NW_QUAD_XY: 407204.90200 5344623.60400
SECONDARY_NE_QUAD_XY: 411844.58100 5344549.96300
SECONDARY_SE_QUAD_XY: 411737.20300 5337603.26000
SECONDARY_SW_QUAD_XY: 407091.87200 5337676.91800
RMSE_XY: 1.39000
IMAGE_SOURCE: BLACK AND WHITE FILM
SOURCE_IMAGE_ID: NAPP 9122-110
SOURCE_IMAGE_DATE: 1996 9 11
SOURCE_DEM_DATE: 1998 0 0
AGENCY: WESTERN MAPPING CENTER (WMC)
PRODUCER: WOOLPERT LLP
PRODUCTION_SYSTEM: INTERGRAPH ISPM, ISIR
COMPRESSION: UNDEFINED
STANDARD_VERSION: 1996 12
METADATA_DATE: 2001 3 30
DATA_FILE_SIZE: 41282445
BYTE_COUNT: 5407
