FILENAME: O4810655.SWS.1139218.tif
QUADRANGLE_NAME: MILK RIVER COULEE
QUADRANT: SW
WEST_LONGITUDE: -106 15 0.00000
EAST_LONGITUDE: -106 11 15.00000
NORTH_LATITUDE: 48 11 15.00000
SOUTH_LATITUDE: 48 7 30.00000
PRODUCTION_DATE: 2001 3 30
RASTER_ORDER: LEFT_RIGHT/TOP_BOTTOM
BAND_ORGANIZATION: SINGLE FILE
BAND_CONTENT: BLACK&WHITE
BAND_CONTENT: UNDEFINED
BAND_CONTENT: UNDEFINED
BITS_PER_PIXEL: 8
SAMPLES_AND_LINES: 5412 7634
HORIZONTAL_DATUM: NAD83
HORIZONTAL_COORDINATE_SYSTEM: UTM
COORDINATE_ZONE: 13
HORIZONTAL_UNITS: meters
HORIZONTAL_RESOLUTION: 1.00000
SECONDARY_HORIZONTAL_DATUM: NAD27
XY_ORIGIN: 406633.00000 5338204.00000
SECONDARY_XY_ORIGIN: 406673.21800 5337982.06100
NATION: US
STATE: MT
NW_QUAD_CORNER_XY: 407094.80700 5337895.81600
NE_QUAD_CORNER_XY: 411739.99200 5337822.16000
SE_QUAD_CORNERY_XY: 411632.72000 5330875.51600
SW_QUAD_CORNER_XY: 406981.88800 5330949.19000
SECONDARY_NW_QUAD_XY: 407091.87200 5337676.91800
SECONDARY_NE_QUAD_XY: 411737.20300 5337603.26000
SECONDARY_SE_QUAD_XY: 411629.93200 5330656.62900
SECONDARY_SW_QUAD_XY: 406978.95300 5330730.30500
RMSE_XY: 2.03000
IMAGE_SOURCE: BLACK AND WHITE FILM
SOURCE_IMAGE_ID: NAPP 9122-112
SOURCE_IMAGE_DATE: 1996 9 11
SOURCE_DEM_DATE: 1998 0 0
AGENCY: WESTERN MAPPING CENTER (WMC)
PRODUCER: WOOLPERT LLP
PRODUCTION_SYSTEM: INTERGRAPH ISPM, ISIR
COMPRESSION: UNDEFINED
STANDARD_VERSION: 1996 12
METADATA_DATE: 2001 3 30
DATA_FILE_SIZE: 41320620
BYTE_COUNT: 5412
