FILENAME: O4810654.NWS.1137236.tif
QUADRANGLE_NAME: NASHUA
QUADRANT: NW
WEST_LONGITUDE: -106 22 30.00000
EAST_LONGITUDE: -106 18 45.00000
NORTH_LATITUDE: 48 15 0.00000
SOUTH_LATITUDE: 48 11 15.00000
PRODUCTION_DATE: 2001 3 23
RASTER_ORDER: LEFT_RIGHT/TOP_BOTTOM
BAND_ORGANIZATION: SINGLE FILE
BAND_CONTENT: BLACK&WHITE
BAND_CONTENT: UNDEFINED
BAND_CONTENT: UNDEFINED
BITS_PER_PIXEL: 8
SAMPLES_AND_LINES: 5419 7642
HORIZONTAL_DATUM: NAD83
HORIZONTAL_COORDINATE_SYSTEM: UTM
COORDINATE_ZONE: 13
HORIZONTAL_UNITS: meters
HORIZONTAL_RESOLUTION: 1.00000
SECONDARY_HORIZONTAL_DATUM: NAD27
XY_ORIGIN: 397455.00000 5345310.00000
SECONDARY_XY_ORIGIN: 397495.30900 5345087.81700
NATION: US
STATE: MT
NW_QUAD_CORNER_XY: 397928.81200 5345001.12300
NE_QUAD_CORNER_XY: 402568.31800 5344919.92900
SE_QUAD_CORNERY_XY: 402449.63400 5337973.25000
SW_QUAD_CORNER_XY: 397804.47500 5338054.46300
SECONDARY_NW_QUAD_XY: 397925.58300 5344782.21800
SECONDARY_NE_QUAD_XY: 402565.23600 5344701.02200
SECONDARY_SE_QUAD_XY: 402446.55300 5337754.35500
SECONDARY_SW_QUAD_XY: 397801.24600 5337835.57100
RMSE_XY: 2.26000
IMAGE_SOURCE: BLACK AND WHITE FILM
SOURCE_IMAGE_ID: NAPP 9109-244
SOURCE_IMAGE_DATE: 1996 8 11
SOURCE_DEM_DATE: 1998 0 0
AGENCY: WESTERN MAPPING CENTER (WMC)
PRODUCER: WOOLPERT LLP
PRODUCTION_SYSTEM: INTERGRAPH ISPM, ISIR
COMPRESSION: UNDEFINED
STANDARD_VERSION: 1996 12
METADATA_DATE: 2001 3 23
DATA_FILE_SIZE: 41417417
BYTE_COUNT: 5419
