FILENAME: O4810654.SES.1137237.tif
QUADRANGLE_NAME: NASHUA
QUADRANT: SE
WEST_LONGITUDE: -106 18 45.00000
EAST_LONGITUDE: -106 15 0.00000
NORTH_LATITUDE: 48 11 15.00000
SOUTH_LATITUDE: 48 7 30.00000
PRODUCTION_DATE: 2001 3 23
RASTER_ORDER: LEFT_RIGHT/TOP_BOTTOM
BAND_ORGANIZATION: SINGLE FILE
BAND_CONTENT: BLACK&WHITE
BAND_CONTENT: UNDEFINED
BAND_CONTENT: UNDEFINED
BITS_PER_PIXEL: 8
SAMPLES_AND_LINES: 5418 7638
HORIZONTAL_DATUM: NAD83
HORIZONTAL_COORDINATE_SYSTEM: UTM
COORDINATE_ZONE: 13
HORIZONTAL_UNITS: meters
HORIZONTAL_RESOLUTION: 1.00000
SECONDARY_HORIZONTAL_DATUM: NAD27
XY_ORIGIN: 401982.00000 5338282.00000
SECONDARY_XY_ORIGIN: 402022.31200 5338060.01300
NATION: US
STATE: MT
NW_QUAD_CORNER_XY: 402449.63400 5337973.25000
NE_QUAD_CORNER_XY: 407094.80700 5337895.81600
SE_QUAD_CORNERY_XY: 406981.88800 5330949.19000
SW_QUAD_CORNER_XY: 402331.06800 5331026.64300
SECONDARY_NW_QUAD_XY: 402446.55300 5337754.35500
SECONDARY_NE_QUAD_XY: 407091.87200 5337676.91800
SECONDARY_SE_QUAD_XY: 406978.95300 5330730.30500
SECONDARY_SW_QUAD_XY: 402327.98600 5330807.76100
RMSE_XY: 2.18000
IMAGE_SOURCE: BLACK AND WHITE FILM
SOURCE_IMAGE_ID: NAPP 9122-059
SOURCE_IMAGE_DATE: 1996 9 11
SOURCE_DEM_DATE: 1998 0 0
AGENCY: WESTERN MAPPING CENTER (WMC)
PRODUCER: WOOLPERT LLP
PRODUCTION_SYSTEM: INTERGRAPH ISPM, ISIR
COMPRESSION: UNDEFINED
STANDARD_VERSION: 1996 12
METADATA_DATE: 2001 3 23
DATA_FILE_SIZE: 41388102
BYTE_COUNT: 5418
