FILENAME: O4810653.NES.1137227.tif
QUADRANGLE_NAME: LINDEKE COULEE
QUADRANT: NE
WEST_LONGITUDE: -106 26 15.00000
EAST_LONGITUDE: -106 22 30.00000
NORTH_LATITUDE: 48 15 0.00000
SOUTH_LATITUDE: 48 11 15.00000
PRODUCTION_DATE: 2001 3 23
RASTER_ORDER: LEFT_RIGHT/TOP_BOTTOM
BAND_ORGANIZATION: SINGLE FILE
BAND_CONTENT: BLACK&WHITE
BAND_CONTENT: UNDEFINED
BAND_CONTENT: UNDEFINED
BITS_PER_PIXEL: 8
SAMPLES_AND_LINES: 5424 7646
HORIZONTAL_DATUM: NAD83
HORIZONTAL_COORDINATE_SYSTEM: UTM
COORDINATE_ZONE: 13
HORIZONTAL_UNITS: meters
HORIZONTAL_RESOLUTION: 1.00000
SECONDARY_HORIZONTAL_DATUM: NAD27
XY_ORIGIN: 392810.00000 5345395.00000
SECONDARY_XY_ORIGIN: 392850.39600 5345172.77500
NATION: US
STATE: MT
NW_QUAD_CORNER_XY: 393289.31900 5345086.09300
NE_QUAD_CORNER_XY: 397928.81200 5345001.12300
SE_QUAD_CORNERY_XY: 397804.47500 5338054.46300
SW_QUAD_CORNER_XY: 393159.32800 5338139.45500
SECONDARY_NW_QUAD_XY: 393285.94400 5344867.19200
SECONDARY_NE_QUAD_XY: 397925.58300 5344782.21800
SECONDARY_SE_QUAD_XY: 397801.24600 5337835.57100
SECONDARY_SW_QUAD_XY: 393155.95300 5337920.56500
RMSE_XY: 1.98000
IMAGE_SOURCE: BLACK AND WHITE FILM
SOURCE_IMAGE_ID: NAPP 9109-191
SOURCE_IMAGE_DATE: 1996 8 11
SOURCE_IMAGE_ID: NAPP 9109-244
SOURCE_IMAGE_DATE: 1996 8 11
SOURCE_DEM_DATE: 1998 0 0
AGENCY: WESTERN MAPPING CENTER (WMC)
PRODUCER: WOOLPERT LLP
PRODUCTION_SYSTEM: INTERGRAPH ISPM, ISIR
COMPRESSION: UNDEFINED
STANDARD_VERSION: 1996 12
METADATA_DATE: 2001 4 12
DATA_FILE_SIZE: 41477328
BYTE_COUNT: 5424
