FILENAME: O4810653.SES.1137229.tif
QUADRANGLE_NAME: LINDEKE COULEE
QUADRANT: SE
WEST_LONGITUDE: -106 26 15.00000
EAST_LONGITUDE: -106 22 30.00000
NORTH_LATITUDE: 48 11 15.00000
SOUTH_LATITUDE: 48 7 30.00000
PRODUCTION_DATE: 2001 3 23
RASTER_ORDER: LEFT_RIGHT/TOP_BOTTOM
BAND_ORGANIZATION: SINGLE FILE
BAND_CONTENT: BLACK&WHITE
BAND_CONTENT: UNDEFINED
BAND_CONTENT: UNDEFINED
BITS_PER_PIXEL: 8
SAMPLES_AND_LINES: 5430 7646
HORIZONTAL_DATUM: NAD83
HORIZONTAL_COORDINATE_SYSTEM: UTM
COORDINATE_ZONE: 13
HORIZONTAL_UNITS: meters
HORIZONTAL_RESOLUTION: 1.00000
SECONDARY_HORIZONTAL_DATUM: NAD27
XY_ORIGIN: 392680.00000 5338448.00000
SECONDARY_XY_ORIGIN: 392720.50100 5338225.91600
NATION: US
STATE: MT
NW_QUAD_CORNER_XY: 393159.32800 5338139.45500
NE_QUAD_CORNER_XY: 397804.47500 5338054.46300
SE_QUAD_CORNERY_XY: 397680.26000 5331107.87600
SW_QUAD_CORNER_XY: 393029.46600 5331192.88700
SECONDARY_NW_QUAD_XY: 393155.95300 5337920.56500
SECONDARY_NE_QUAD_XY: 397801.24600 5337835.57100
SECONDARY_SE_QUAD_XY: 397677.03200 5330888.99600
SECONDARY_SW_QUAD_XY: 393026.09100 5330974.01000
RMSE_XY: 2.27000
IMAGE_SOURCE: BLACK AND WHITE FILM
SOURCE_IMAGE_ID: NAPP 9109-189
SOURCE_IMAGE_DATE: 1996 8 11
SOURCE_IMAGE_ID: NAPP 9109-246
SOURCE_IMAGE_DATE: 1996 8 11
SOURCE_DEM_DATE: 1998 0 0
AGENCY: WESTERN MAPPING CENTER (WMC)
PRODUCER: WOOLPERT LLP
PRODUCTION_SYSTEM: INTERGRAPH ISPM, ISIR
COMPRESSION: UNDEFINED
STANDARD_VERSION: 1996 12
METADATA_DATE: 2001 4 12
DATA_FILE_SIZE: 41523210
BYTE_COUNT: 5430
